BEGIN:VCALENDAR
VERSION:2.0
PRODID:-//VIVAG - ECPv6.15.20//NONSGML v1.0//EN
CALSCALE:GREGORIAN
METHOD:PUBLISH
X-ORIGINAL-URL:https://vivag.ch
X-WR-CALDESC:Évènements pour VIVAG
REFRESH-INTERVAL;VALUE=DURATION:PT1H
X-Robots-Tag:noindex
X-PUBLISHED-TTL:PT1H
BEGIN:VTIMEZONE
TZID:Europe/Zurich
BEGIN:DAYLIGHT
TZOFFSETFROM:+0100
TZOFFSETTO:+0200
TZNAME:CEST
DTSTART:20250330T010000
END:DAYLIGHT
BEGIN:STANDARD
TZOFFSETFROM:+0200
TZOFFSETTO:+0100
TZNAME:CET
DTSTART:20251026T010000
END:STANDARD
BEGIN:DAYLIGHT
TZOFFSETFROM:+0100
TZOFFSETTO:+0200
TZNAME:CEST
DTSTART:20260329T010000
END:DAYLIGHT
BEGIN:STANDARD
TZOFFSETFROM:+0200
TZOFFSETTO:+0100
TZNAME:CET
DTSTART:20261025T010000
END:STANDARD
BEGIN:DAYLIGHT
TZOFFSETFROM:+0100
TZOFFSETTO:+0200
TZNAME:CEST
DTSTART:20270328T010000
END:DAYLIGHT
BEGIN:STANDARD
TZOFFSETFROM:+0200
TZOFFSETTO:+0100
TZNAME:CET
DTSTART:20271031T010000
END:STANDARD
END:VTIMEZONE
BEGIN:VEVENT
DTSTART;TZID=Europe/Zurich:20260601T140000
DTEND;TZID=Europe/Zurich:20260601T160000
DTSTAMP:20260425T144912
CREATED:20260128T095752Z
LAST-MODIFIED:20260128T095752Z
UID:34005-1780322400-1780329600@vivag.ch
SUMMARY:ITALIEN
DESCRIPTION:
URL:https://vivag.ch/calendrier/italien-10/
LOCATION:Complexe de Montoly\, Ch. de Montoly 3\, Gland\, 1196\, Suisse
END:VEVENT
BEGIN:VEVENT
DTSTART;TZID=Europe/Zurich:20260601T180000
DTEND;TZID=Europe/Zurich:20260601T193000
DTSTAMP:20260425T144912
CREATED:20260104T194206Z
LAST-MODIFIED:20260104T194206Z
UID:33929-1780336800-1780342200@vivag.ch
SUMMARY:Tai-Chi
DESCRIPTION:
URL:https://vivag.ch/calendrier/tai-chi-110/
LOCATION:17 rue de la Combe
END:VEVENT
BEGIN:VEVENT
DTSTART;TZID=Europe/Zurich:20260602T073000
DTEND;TZID=Europe/Zurich:20260602T173000
DTSTAMP:20260425T144912
CREATED:20240716T070333Z
LAST-MODIFIED:20260312T154730Z
UID:31424-1780385400-1780421400@vivag.ch
SUMMARY:Marche
DESCRIPTION:Date                                  Mardi 2 juin\, Rosine\, Madeleine. RDV Gare 07h50\, voie 1\, départ 7h59. \nDestination                        Train : Gland – Bouveret ar 10h00 \nRandonnée jusque dans la forêt de châtaigniers dominant St-Gingolph et le léman \n4 km \, + 250 m\, Pic-nic\, puis descente direction de St-Gingolph env. 1\,5 km \nVisite commentée de la Fabrique de Perles du Léman \nretour                                 Bateau  St-Gingolph – Vevey et train Gland\, arrivée 17h00 \nPrix de la course              1/2 tarif 30\,00 CHF – plein tarif 60\,00 CHF. \nInscriptions                        chez Rosine jusqu’au jeudi 28 mai par tél 022 364 39 02 ou rosine.hinnen@gmail.com
URL:https://vivag.ch/calendrier/31424/
LOCATION:Gare de Gland
END:VEVENT
BEGIN:VEVENT
DTSTART;TZID=Europe/Zurich:20260602T093000
DTEND;TZID=Europe/Zurich:20260602T113000
DTSTAMP:20260425T144912
CREATED:20251231T083226Z
LAST-MODIFIED:20251231T083226Z
UID:33810-1780392600-1780399800@vivag.ch
SUMMARY:Aquarelle
DESCRIPTION:
URL:https://vivag.ch/calendrier/aquarelle-69/
LOCATION:Complexe de Montoly\, Ch. de Montoly 3\, Gland\, 1196\, Suisse
END:VEVENT
BEGIN:VEVENT
DTSTART;TZID=Europe/Zurich:20260602T153000
DTEND;TZID=Europe/Zurich:20260602T170000
DTSTAMP:20260425T144912
CREATED:20251230T111013Z
LAST-MODIFIED:20251230T111013Z
UID:33702-1780414200-1780419600@vivag.ch
SUMMARY:DESSIN MEDITATIF
DESCRIPTION:
URL:https://vivag.ch/calendrier/dessin-meditatif-18/
LOCATION:Local Vivag\, Chemin de Montoly 3\, Gland\, 1196\, Suisse
END:VEVENT
BEGIN:VEVENT
DTSTART;TZID=Europe/Zurich:20260603T093000
DTEND;TZID=Europe/Zurich:20260603T113000
DTSTAMP:20260425T144912
CREATED:20251227T133518Z
LAST-MODIFIED:20251227T133518Z
UID:33658-1780479000-1780486200@vivag.ch
SUMMARY:ACCUEIL
DESCRIPTION:
URL:https://vivag.ch/calendrier/accueil-142/
LOCATION:Local Vivag\, Chemin de Montoly 3\, Gland\, 1196\, Suisse
ATTACH;FMTTYPE=image/jpeg:https://vivag.ch/wp-content/uploads/2025/12/Accueil-photo-calendrier.jpeg
END:VEVENT
BEGIN:VEVENT
DTSTART;TZID=Europe/Zurich:20260603T093000
DTEND;TZID=Europe/Zurich:20260603T150000
DTSTAMP:20260425T144912
CREATED:20260104T133021Z
LAST-MODIFIED:20260104T133021Z
UID:33872-1780479000-1780498800@vivag.ch
SUMMARY:COOKING CLUB
DESCRIPTION:
URL:https://vivag.ch/calendrier/cooking-club-28/
LOCATION:Complexe de Montoly\, Ch. de Montoly 3\, Gland\, 1196\, Suisse
ATTACH;FMTTYPE=image/jpeg:https://vivag.ch/wp-content/uploads/2025/11/9d46819f-5320-4c86-a0fe-4bbf3a045eab.jpeg
END:VEVENT
BEGIN:VEVENT
DTSTART;TZID=Europe/Zurich:20260603T140000
DTEND;TZID=Europe/Zurich:20260603T180000
DTSTAMP:20260425T144912
CREATED:20251220T085815Z
LAST-MODIFIED:20251220T085815Z
UID:33587-1780495200-1780509600@vivag.ch
SUMMARY:PETANQUE
DESCRIPTION:
URL:https://vivag.ch/calendrier/petanque-292/
LOCATION:Centre sportif En Bord\, Centre sportif En Bord\, Gland\, 1196\, Suisse
END:VEVENT
BEGIN:VEVENT
DTSTART;TZID=Europe/Zurich:20260604T140000
DTEND;TZID=Europe/Zurich:20260604T160000
DTSTAMP:20260425T144912
CREATED:20251231T081009Z
LAST-MODIFIED:20251231T081009Z
UID:33786-1780581600-1780588800@vivag.ch
SUMMARY:Anglais
DESCRIPTION:
URL:https://vivag.ch/calendrier/anglais-38/
LOCATION:Complexe de Montoly\, Ch. de Montoly 3\, Gland\, 1196\, Suisse
END:VEVENT
BEGIN:VEVENT
DTSTART;TZID=Europe/Zurich:20260605T093000
DTEND;TZID=Europe/Zurich:20260605T110000
DTSTAMP:20260425T144912
CREATED:20251227T135905Z
LAST-MODIFIED:20251227T135905Z
UID:33686-1780651800-1780657200@vivag.ch
SUMMARY:ESPAGNOL
DESCRIPTION:
URL:https://vivag.ch/calendrier/espagnol-63/
LOCATION:Local Vivag\, Chemin de Montoly 3\, Gland\, 1196\, Suisse
ATTACH;FMTTYPE=image/jpeg:https://vivag.ch/wp-content/uploads/2025/12/Espagnol-photo-calendrier.jpg
END:VEVENT
BEGIN:VEVENT
DTSTART;TZID=Europe/Zurich:20260605T093000
DTEND;TZID=Europe/Zurich:20260605T113000
DTSTAMP:20260425T144912
CREATED:20251230T114135Z
LAST-MODIFIED:20251230T114135Z
UID:33751-1780651800-1780659000@vivag.ch
SUMMARY:GYM EQUILIBRE
DESCRIPTION:
URL:https://vivag.ch/calendrier/gym-equilibre-33/
LOCATION:Salle de judo de Montoly\, Complexe de Montoly\, Gland\, 1196\, Switzerland
END:VEVENT
BEGIN:VEVENT
DTSTART;TZID=Europe/Zurich:20260606T140000
DTEND;TZID=Europe/Zurich:20260606T180000
DTSTAMP:20260425T144912
CREATED:20251220T084154Z
LAST-MODIFIED:20251220T084154Z
UID:33579-1780754400-1780768800@vivag.ch
SUMMARY:PETANQUE
DESCRIPTION:
URL:https://vivag.ch/calendrier/petanque-288/
LOCATION:Centre sportif En Bord\, Centre sportif En Bord\, Gland\, 1196\, Suisse
END:VEVENT
BEGIN:VEVENT
DTSTART;TZID=Europe/Zurich:20260607T120000
DTEND;TZID=Europe/Zurich:20260607T140000
DTSTAMP:20260425T144912
CREATED:20260104T131445Z
LAST-MODIFIED:20260104T131445Z
UID:33858-1780833600-1780840800@vivag.ch
SUMMARY:TABLE D'HÔTES
DESCRIPTION:
URL:https://vivag.ch/calendrier/table-dhotes-36/
LOCATION:Aux Trésors des Iles\, Rue de Malagny 8\, Gland\, 1196\, Suisse
ATTACH;FMTTYPE=image/jpeg:https://vivag.ch/wp-content/uploads/2023/08/2088a0a5-56ff-4a0a-adb0-e8d58e9d93b9.jpg
END:VEVENT
BEGIN:VEVENT
DTSTART;TZID=Europe/Zurich:20260608T180000
DTEND;TZID=Europe/Zurich:20260608T193000
DTSTAMP:20260425T144912
CREATED:20260104T194256Z
LAST-MODIFIED:20260104T194256Z
UID:33931-1780941600-1780947000@vivag.ch
SUMMARY:Tai-Chi
DESCRIPTION:
URL:https://vivag.ch/calendrier/tai-chi-111/
LOCATION:17 rue de la Combe
END:VEVENT
BEGIN:VEVENT
DTSTART;TZID=Europe/Zurich:20260609T093000
DTEND;TZID=Europe/Zurich:20260609T110000
DTSTAMP:20260425T144912
CREATED:20260104T200346Z
LAST-MODIFIED:20260104T200346Z
UID:33961-1780997400-1781002800@vivag.ch
SUMMARY:allemand
DESCRIPTION:
URL:https://vivag.ch/calendrier/allemand-72/
LOCATION:Complexe de Montoly\, Ch. de Montoly 3\, Gland\, 1196\, Suisse
END:VEVENT
BEGIN:VEVENT
DTSTART;TZID=Europe/Zurich:20260609T120000
DTEND;TZID=Europe/Zurich:20260609T140000
DTSTAMP:20260425T144912
CREATED:20260104T131558Z
LAST-MODIFIED:20260104T131558Z
UID:33860-1781006400-1781013600@vivag.ch
SUMMARY:TABLE D'HÔTES
DESCRIPTION:
URL:https://vivag.ch/calendrier/table-dhotes-37/
LOCATION:Chez Ineke\, Chemin des Oiseaux 18\, Gland\, 1196\, Suisse
ATTACH;FMTTYPE=image/jpeg:https://vivag.ch/wp-content/uploads/2023/09/1e9241d6-19cf-4c44-93f5-5d9684a8476d.jpg
END:VEVENT
BEGIN:VEVENT
DTSTART;TZID=Europe/Zurich:20260609T140000
DTEND;TZID=Europe/Zurich:20260609T160000
DTSTAMP:20260425T144912
CREATED:20251220T071357Z
LAST-MODIFIED:20251220T071357Z
UID:33490-1781013600-1781020800@vivag.ch
SUMMARY:SCRABBLE
DESCRIPTION:
URL:https://vivag.ch/calendrier/scrabble-19/
LOCATION:Local Vivag\, Chemin de Montoly 3\, Gland\, 1196\, Suisse
END:VEVENT
BEGIN:VEVENT
DTSTART;TZID=Europe/Zurich:20260610T093000
DTEND;TZID=Europe/Zurich:20260610T113000
DTSTAMP:20260425T144912
CREATED:20251227T133616Z
LAST-MODIFIED:20251227T133616Z
UID:33660-1781083800-1781091000@vivag.ch
SUMMARY:ACCUEIL
DESCRIPTION:
URL:https://vivag.ch/calendrier/accueil-143/
LOCATION:Local Vivag\, Chemin de Montoly 3\, Gland\, 1196\, Suisse
ATTACH;FMTTYPE=image/jpeg:https://vivag.ch/wp-content/uploads/2025/12/Accueil-photo-calendrier.jpeg
END:VEVENT
BEGIN:VEVENT
DTSTART;TZID=Europe/Zurich:20260610T140000
DTEND;TZID=Europe/Zurich:20260610T180000
DTSTAMP:20260425T144912
CREATED:20251220T083830Z
LAST-MODIFIED:20251220T083830Z
UID:33573-1781100000-1781114400@vivag.ch
SUMMARY:PETANQUE
DESCRIPTION:
URL:https://vivag.ch/calendrier/petanque-285/
LOCATION:Centre sportif En Bord\, Centre sportif En Bord\, Gland\, 1196\, Suisse
END:VEVENT
BEGIN:VEVENT
DTSTART;TZID=Europe/Zurich:20260612T093000
DTEND;TZID=Europe/Zurich:20260612T113000
DTSTAMP:20260425T144912
CREATED:20251230T114223Z
LAST-MODIFIED:20251230T114223Z
UID:33753-1781256600-1781263800@vivag.ch
SUMMARY:GYM EQUILIBRE
DESCRIPTION:
URL:https://vivag.ch/calendrier/gym-equilibre-34/
LOCATION:Salle de judo de Montoly\, Complexe de Montoly\, Gland\, 1196\, Switzerland
END:VEVENT
BEGIN:VEVENT
DTSTART;TZID=Europe/Zurich:20260613T140000
DTEND;TZID=Europe/Zurich:20260613T180000
DTSTAMP:20260425T144912
CREATED:20251220T084251Z
LAST-MODIFIED:20251220T084251Z
UID:33581-1781359200-1781373600@vivag.ch
SUMMARY:PETANQUE
DESCRIPTION:
URL:https://vivag.ch/calendrier/petanque-289/
LOCATION:Centre sportif En Bord\, Centre sportif En Bord\, Gland\, 1196\, Suisse
END:VEVENT
BEGIN:VEVENT
DTSTART;TZID=Europe/Zurich:20260615T090000
DTEND;TZID=Europe/Zurich:20260615T173000
DTSTAMP:20260425T144912
CREATED:20240716T064421Z
LAST-MODIFIED:20260312T163925Z
UID:31410-1781514000-1781544600@vivag.ch
SUMMARY:Marche
DESCRIPTION:.Attention cette marche aura lieu le matin ou l’après-midi ceci en fonction des conditions météorologies du moment. \nEn effet en cas de « Canicules » nous ferons cette sortie le matin afin d’être préserver de la chaleur. \nDes infos seront indiquées à cet endroit 1-2 jours avant le 15 juin. En cas de doute vous pouvez me contacter. \nDate                                   LU 15 juin\, Laurent\, Georges\,  RDV En-Bord 09h00 ou 13h30\, suivant les températures \nDestination                        GM Marais-Rouge – l’Arzière – Carroz – Vermeilley \nPM Marais-Rouge\, Grande Enne\, Bois de la Grabde Enne\, Vermeilley \nDurées – Dénivelé             GM : 9 km \, + / –  280 m \, environ 2h30 \nPM :  7 km \,  + / – 140 m \, environ 2h \nPrix de la course              Chauffeurs : 6\,50 km  Parking. Arzier\, route des Montagnes\, le Marais – Rouge \n  \n  \n 
URL:https://vivag.ch/calendrier/marche-23/
LOCATION:Centre sportif En Bord\, Centre sportif En Bord\, Gland\, 1196\, Suisse
ORGANIZER;CN="Laurent Sumi":MAILTO:laurentsumi@bluewin.ch
END:VEVENT
BEGIN:VEVENT
DTSTART;TZID=Europe/Zurich:20260615T140000
DTEND;TZID=Europe/Zurich:20260615T160000
DTSTAMP:20260425T144912
CREATED:20260128T101027Z
LAST-MODIFIED:20260128T101027Z
UID:34011-1781532000-1781539200@vivag.ch
SUMMARY:ITALIEN
DESCRIPTION:
URL:https://vivag.ch/calendrier/italien-9/
LOCATION:Complexe de Montoly\, Ch. de Montoly 3\, Gland\, 1196\, Suisse
END:VEVENT
BEGIN:VEVENT
DTSTART;TZID=Europe/Zurich:20260615T180000
DTEND;TZID=Europe/Zurich:20260615T193000
DTSTAMP:20260425T144912
CREATED:20260104T194354Z
LAST-MODIFIED:20260104T194354Z
UID:33933-1781546400-1781551800@vivag.ch
SUMMARY:Tai-Chi
DESCRIPTION:
URL:https://vivag.ch/calendrier/tai-chi-112/
LOCATION:17 rue de la Combe
END:VEVENT
BEGIN:VEVENT
DTSTART;TZID=Europe/Zurich:20260616T093000
DTEND;TZID=Europe/Zurich:20260616T113000
DTSTAMP:20260425T144912
CREATED:20251231T083350Z
LAST-MODIFIED:20251231T083350Z
UID:33812-1781602200-1781609400@vivag.ch
SUMMARY:Aquarelle
DESCRIPTION:
URL:https://vivag.ch/calendrier/aquarelle-70/
LOCATION:Complexe de Montoly\, Ch. de Montoly 3\, Gland\, 1196\, Suisse
END:VEVENT
BEGIN:VEVENT
DTSTART;TZID=Europe/Zurich:20260616T150000
DTEND;TZID=Europe/Zurich:20260616T170000
DTSTAMP:20260425T144912
CREATED:20251230T111732Z
LAST-MODIFIED:20251230T111732Z
UID:33712-1781622000-1781629200@vivag.ch
SUMMARY:CINE-VIVAG
DESCRIPTION:
URL:https://vivag.ch/calendrier/cine-vivag-26/
LOCATION:Local Vivag\, Chemin de Montoly 3\, Gland\, 1196\, Suisse
ORGANIZER;CN="Jean-Luc Nicolet":MAILTO:cinevivag.gland@gmail.com
END:VEVENT
BEGIN:VEVENT
DTSTART;TZID=Europe/Zurich:20260617T093000
DTEND;TZID=Europe/Zurich:20260617T113000
DTSTAMP:20260425T144912
CREATED:20251227T133745Z
LAST-MODIFIED:20251227T133745Z
UID:33662-1781688600-1781695800@vivag.ch
SUMMARY:ACCUEIL
DESCRIPTION:
URL:https://vivag.ch/calendrier/accueil-144/
LOCATION:Local Vivag\, Chemin de Montoly 3\, Gland\, 1196\, Suisse
ATTACH;FMTTYPE=image/jpeg:https://vivag.ch/wp-content/uploads/2025/12/Accueil-photo-calendrier.jpeg
END:VEVENT
BEGIN:VEVENT
DTSTART;TZID=Europe/Zurich:20260617T120000
DTEND;TZID=Europe/Zurich:20260617T140000
DTSTAMP:20260425T144912
CREATED:20260104T131720Z
LAST-MODIFIED:20260104T131720Z
UID:33862-1781697600-1781704800@vivag.ch
SUMMARY:TABLE D'HÔTES
DESCRIPTION:
URL:https://vivag.ch/calendrier/table-dhotes-38/
LOCATION:Aux Trésors des Iles\, Rue de Malagny 8\, Gland\, 1196\, Suisse
ATTACH;FMTTYPE=image/jpeg:https://vivag.ch/wp-content/uploads/2023/08/2088a0a5-56ff-4a0a-adb0-e8d58e9d93b9.jpg
END:VEVENT
BEGIN:VEVENT
DTSTART;TZID=Europe/Zurich:20260617T140000
DTEND;TZID=Europe/Zurich:20260617T180000
DTSTAMP:20260425T144912
CREATED:20251220T083950Z
LAST-MODIFIED:20251220T083950Z
UID:33575-1781704800-1781719200@vivag.ch
SUMMARY:PETANQUE
DESCRIPTION:
URL:https://vivag.ch/calendrier/petanque-286/
LOCATION:Centre sportif En Bord\, Centre sportif En Bord\, Gland\, 1196\, Suisse
END:VEVENT
BEGIN:VEVENT
DTSTART;TZID=Europe/Zurich:20260618T140000
DTEND;TZID=Europe/Zurich:20260618T160000
DTSTAMP:20260425T144912
CREATED:20251231T081209Z
LAST-MODIFIED:20251231T081209Z
UID:33788-1781791200-1781798400@vivag.ch
SUMMARY:Anglais
DESCRIPTION:
URL:https://vivag.ch/calendrier/anglais-39/
LOCATION:Complexe de Montoly\, Ch. de Montoly 3\, Gland\, 1196\, Suisse
END:VEVENT
END:VCALENDAR