BEGIN:VCALENDAR
VERSION:2.0
PRODID:-//VIVAG - ECPv6.15.20//NONSGML v1.0//EN
CALSCALE:GREGORIAN
METHOD:PUBLISH
X-WR-CALNAME:VIVAG
X-ORIGINAL-URL:https://vivag.ch
X-WR-CALDESC:Évènements pour VIVAG
REFRESH-INTERVAL;VALUE=DURATION:PT1H
X-Robots-Tag:noindex
X-PUBLISHED-TTL:PT1H
BEGIN:VTIMEZONE
TZID:Europe/Zurich
BEGIN:DAYLIGHT
TZOFFSETFROM:+0100
TZOFFSETTO:+0200
TZNAME:CEST
DTSTART:20250330T010000
END:DAYLIGHT
BEGIN:STANDARD
TZOFFSETFROM:+0200
TZOFFSETTO:+0100
TZNAME:CET
DTSTART:20251026T010000
END:STANDARD
BEGIN:DAYLIGHT
TZOFFSETFROM:+0100
TZOFFSETTO:+0200
TZNAME:CEST
DTSTART:20260329T010000
END:DAYLIGHT
BEGIN:STANDARD
TZOFFSETFROM:+0200
TZOFFSETTO:+0100
TZNAME:CET
DTSTART:20261025T010000
END:STANDARD
BEGIN:DAYLIGHT
TZOFFSETFROM:+0100
TZOFFSETTO:+0200
TZNAME:CEST
DTSTART:20270328T010000
END:DAYLIGHT
BEGIN:STANDARD
TZOFFSETFROM:+0200
TZOFFSETTO:+0100
TZNAME:CET
DTSTART:20271031T010000
END:STANDARD
END:VTIMEZONE
BEGIN:VEVENT
DTSTART;TZID=Europe/Zurich:20260501T093000
DTEND;TZID=Europe/Zurich:20260501T113000
DTSTAMP:20260425T125211
CREATED:20251230T113619Z
LAST-MODIFIED:20251230T113619Z
UID:33740-1777627800-1777635000@vivag.ch
SUMMARY:GYM EQUILIBRE
DESCRIPTION:
URL:https://vivag.ch/calendrier/gym-equilibre-28/
LOCATION:Salle de judo de Montoly\, Complexe de Montoly\, Gland\, 1196\, Switzerland
END:VEVENT
BEGIN:VEVENT
DTSTART;TZID=Europe/Zurich:20260502T140000
DTEND;TZID=Europe/Zurich:20260502T180000
DTSTAMP:20260425T125211
CREATED:20251220T090227Z
LAST-MODIFIED:20251220T090227Z
UID:33594-1777730400-1777744800@vivag.ch
SUMMARY:PETANQUE
DESCRIPTION:
URL:https://vivag.ch/calendrier/petanque-295/
LOCATION:Centre sportif en Bord\, Chemin des Rivières\, Perroy\, 1166\, Suisse
END:VEVENT
BEGIN:VEVENT
DTSTART;TZID=Europe/Zurich:20260503T120000
DTEND;TZID=Europe/Zurich:20260503T140000
DTSTAMP:20260425T125211
CREATED:20260104T131024Z
LAST-MODIFIED:20260104T131024Z
UID:33852-1777809600-1777816800@vivag.ch
SUMMARY:TABLE D'HÔTES
DESCRIPTION:
URL:https://vivag.ch/calendrier/table-dhotes-33/
LOCATION:Aux Trésors des Iles\, Rue de Malagny 8\, Gland\, 1196\, Suisse
ATTACH;FMTTYPE=image/jpeg:https://vivag.ch/wp-content/uploads/2023/08/2088a0a5-56ff-4a0a-adb0-e8d58e9d93b9.jpg
END:VEVENT
BEGIN:VEVENT
DTSTART;TZID=Europe/Zurich:20260504T100000
DTEND;TZID=Europe/Zurich:20260504T170000
DTSTAMP:20260425T125211
CREATED:20251128T122931Z
LAST-MODIFIED:20260421T163431Z
UID:29854-1777888800-1777914000@vivag.ch
SUMMARY:Marche
DESCRIPTION:Lundi  4 mai 2026  conduite par Georges pour la GM et Rosine pour la PM\, \n RDV 09h50 Gare de Gland\, voie 3\, départ train 10h00 \nLe sentier du Rhône\, sa réserve naturelle\, du Lignon à Aire – Satigny \nprévoir le pic-nic\, retour 17h00 environ \nDurée – Dénivelé             GM : Le Lignon – Aire – Satigny \, 11 km \, très peu de dénivelé           PM : Le Lignon – Aire et bus Satigny \, 8 km \, très peu de dénivelé \nBons sentiers et chemins forestiers \nPrix du billet collectif : Abt 1/2 tarif : 11\,50  frs Entier : 23.- frs \nInscriptions :                      chez Georges jusqu’au jeudi 30 avril\, 13h00\, 079 736 38 03\, georges@grandjean.ch
URL:https://vivag.ch/calendrier/marche-26/
LOCATION:Gare de Gland
ORGANIZER;CN="Georges Grandjean":MAILTO:georges@grandjean.ch
END:VEVENT
BEGIN:VEVENT
DTSTART;TZID=Europe/Zurich:20260504T140000
DTEND;TZID=Europe/Zurich:20260504T160000
DTSTAMP:20260425T125211
CREATED:20260128T095516Z
LAST-MODIFIED:20260128T095516Z
UID:33999-1777903200-1777910400@vivag.ch
SUMMARY:ITALIEN
DESCRIPTION:
URL:https://vivag.ch/calendrier/italien-7/
LOCATION:Complexe de Montoly\, Ch. de Montoly 3\, Gland\, 1196\, Suisse
END:VEVENT
BEGIN:VEVENT
DTSTART;TZID=Europe/Zurich:20260504T180000
DTEND;TZID=Europe/Zurich:20260504T193000
DTSTAMP:20260425T125211
CREATED:20260104T193926Z
LAST-MODIFIED:20260104T193926Z
UID:33922-1777917600-1777923000@vivag.ch
SUMMARY:Tai-Chi
DESCRIPTION:
URL:https://vivag.ch/calendrier/tai-chi-107/
LOCATION:17 rue de la Combe
END:VEVENT
BEGIN:VEVENT
DTSTART;TZID=Europe/Zurich:20260505T093000
DTEND;TZID=Europe/Zurich:20260505T113000
DTSTAMP:20260425T125211
CREATED:20251231T082923Z
LAST-MODIFIED:20251231T082923Z
UID:33806-1777973400-1777980600@vivag.ch
SUMMARY:Aquarelle
DESCRIPTION:
URL:https://vivag.ch/calendrier/aquarelle-67/
LOCATION:Complexe de Montoly\, Ch. de Montoly 3\, Gland\, 1196\, Suisse
END:VEVENT
BEGIN:VEVENT
DTSTART;TZID=Europe/Zurich:20260505T153000
DTEND;TZID=Europe/Zurich:20260505T170000
DTSTAMP:20260425T125211
CREATED:20251230T110917Z
LAST-MODIFIED:20251230T110917Z
UID:33700-1777995000-1778000400@vivag.ch
SUMMARY:DESSIN MEDITATIF
DESCRIPTION:
URL:https://vivag.ch/calendrier/dessin-meditatif-17/
LOCATION:Local Vivag\, Chemin de Montoly 3\, Gland\, 1196\, Suisse
END:VEVENT
BEGIN:VEVENT
DTSTART;TZID=Europe/Zurich:20260506T093000
DTEND;TZID=Europe/Zurich:20260506T113000
DTSTAMP:20260425T125211
CREATED:20251227T133050Z
LAST-MODIFIED:20251227T133050Z
UID:33650-1778059800-1778067000@vivag.ch
SUMMARY:ACCUEIL
DESCRIPTION:
URL:https://vivag.ch/calendrier/accueil-138/
LOCATION:Local Vivag\, Chemin de Montoly 3\, Gland\, 1196\, Suisse
ATTACH;FMTTYPE=image/jpeg:https://vivag.ch/wp-content/uploads/2025/12/Accueil-photo-calendrier.jpeg
END:VEVENT
BEGIN:VEVENT
DTSTART;TZID=Europe/Zurich:20260506T140000
DTEND;TZID=Europe/Zurich:20260506T180000
DTSTAMP:20260425T125211
CREATED:20251220T083346Z
LAST-MODIFIED:20251220T083346Z
UID:33565-1778076000-1778090400@vivag.ch
SUMMARY:PETANQUE
DESCRIPTION:
URL:https://vivag.ch/calendrier/petanque-281/
LOCATION:Centre sportif En Bord\, Centre sportif En Bord\, Gland\, 1196\, Suisse
END:VEVENT
BEGIN:VEVENT
DTSTART;TZID=Europe/Zurich:20260508T093000
DTEND;TZID=Europe/Zurich:20260508T110000
DTSTAMP:20260425T125211
CREATED:20251227T135700Z
LAST-MODIFIED:20251227T135700Z
UID:33682-1778232600-1778238000@vivag.ch
SUMMARY:ESPAGNOL
DESCRIPTION:
URL:https://vivag.ch/calendrier/espagnol-61/
LOCATION:Local Vivag\, Chemin de Montoly 3\, Gland\, 1196\, Suisse
ATTACH;FMTTYPE=image/jpeg:https://vivag.ch/wp-content/uploads/2025/12/Espagnol-photo-calendrier.jpg
END:VEVENT
BEGIN:VEVENT
DTSTART;TZID=Europe/Zurich:20260508T093000
DTEND;TZID=Europe/Zurich:20260508T113000
DTSTAMP:20260425T125211
CREATED:20251230T113708Z
LAST-MODIFIED:20251230T113708Z
UID:33742-1778232600-1778239800@vivag.ch
SUMMARY:GYM EQUILIBRE
DESCRIPTION:
URL:https://vivag.ch/calendrier/gym-equilibre-29/
LOCATION:Salle de judo de Montoly\, Complexe de Montoly\, Gland\, 1196\, Switzerland
END:VEVENT
BEGIN:VEVENT
DTSTART;TZID=Europe/Zurich:20260509T140000
DTEND;TZID=Europe/Zurich:20260509T180000
DTSTAMP:20260425T125211
CREATED:20251220T092432Z
LAST-MODIFIED:20251220T092432Z
UID:33598-1778335200-1778349600@vivag.ch
SUMMARY:PETANQUE
DESCRIPTION:
URL:https://vivag.ch/calendrier/petanque-262/
LOCATION:Centre sportif En Bord\, Centre sportif En Bord\, Gland\, 1196\, Suisse
END:VEVENT
BEGIN:VEVENT
DTSTART;TZID=Europe/Zurich:20260511T093000
DTEND;TZID=Europe/Zurich:20260511T170000
DTSTAMP:20260425T125211
CREATED:20240221T150736Z
LAST-MODIFIED:20260419T185948Z
UID:31135-1778491800-1778518800@vivag.ch
SUMMARY:Marche
DESCRIPTION:Marche sur inscription.  Le délai d’inscription est passé. Les inscrits recevront les informations nécessaires. \nMarche hors programme ouverte aux membres Vivag\, bons marcheurs. Une belle course avec un panorama grandiose à 1677 m. \nLundi 11 mai\,  organisation par Pierre Joye\, accompagné par Georges. RDV En Bord 09h30. Covoiturage \nDestination :  La Dôle depuis l’Archette\, 1 seule marche d’environ 11km et + / – 680 m. de dénivelé. \n 
URL:https://vivag.ch/calendrier/marche-22/
LOCATION:Centre sportif En Bord\, Centre sportif En Bord\, Gland\, 1196\, Suisse
END:VEVENT
BEGIN:VEVENT
DTSTART;TZID=Europe/Zurich:20260511T180000
DTEND;TZID=Europe/Zurich:20260511T193000
DTSTAMP:20260425T125211
CREATED:20260104T194024Z
LAST-MODIFIED:20260104T194024Z
UID:33924-1778522400-1778527800@vivag.ch
SUMMARY:Tai-Chi
DESCRIPTION:
URL:https://vivag.ch/calendrier/tai-chi-108/
LOCATION:17 rue de la Combe
END:VEVENT
BEGIN:VEVENT
DTSTART;TZID=Europe/Zurich:20260512T093000
DTEND;TZID=Europe/Zurich:20260512T110000
DTSTAMP:20260425T125211
CREATED:20260104T200210Z
LAST-MODIFIED:20260104T200210Z
UID:33957-1778578200-1778583600@vivag.ch
SUMMARY:allemand
DESCRIPTION:
URL:https://vivag.ch/calendrier/allemand-70/
LOCATION:Complexe de Montoly\, Ch. de Montoly 3\, Gland\, 1196\, Suisse
END:VEVENT
BEGIN:VEVENT
DTSTART;TZID=Europe/Zurich:20260512T120000
DTEND;TZID=Europe/Zurich:20260512T140000
DTSTAMP:20260425T125211
CREATED:20260104T131220Z
LAST-MODIFIED:20260104T131220Z
UID:33854-1778587200-1778594400@vivag.ch
SUMMARY:TABLE D'HÔTES
DESCRIPTION:
URL:https://vivag.ch/calendrier/table-dhotes-34/
LOCATION:Chez Ineke\, Chemin des Oiseaux 18\, Gland\, 1196\, Suisse
ATTACH;FMTTYPE=image/jpeg:https://vivag.ch/wp-content/uploads/2023/09/98f46b2b-c5fb-4123-b4f8-d02152b90113-1.jpg
END:VEVENT
BEGIN:VEVENT
DTSTART;TZID=Europe/Zurich:20260512T140000
DTEND;TZID=Europe/Zurich:20260512T160000
DTSTAMP:20260425T125211
CREATED:20251220T071023Z
LAST-MODIFIED:20251220T071023Z
UID:33486-1778594400-1778601600@vivag.ch
SUMMARY:SCRABBLE
DESCRIPTION:
URL:https://vivag.ch/calendrier/scrabble-17/
LOCATION:Local Vivag\, Chemin de Montoly 3\, Gland\, 1196\, Suisse
END:VEVENT
BEGIN:VEVENT
DTSTART;TZID=Europe/Zurich:20260513T093000
DTEND;TZID=Europe/Zurich:20260513T113000
DTSTAMP:20260425T125211
CREATED:20251227T133146Z
LAST-MODIFIED:20251227T133146Z
UID:33652-1778664600-1778671800@vivag.ch
SUMMARY:ACCUEIL
DESCRIPTION:
URL:https://vivag.ch/calendrier/accueil-139/
LOCATION:Local Vivag\, Chemin de Montoly 3\, Gland\, 1196\, Suisse
ATTACH;FMTTYPE=image/jpeg:https://vivag.ch/wp-content/uploads/2025/12/Accueil-photo-calendrier.jpeg
END:VEVENT
BEGIN:VEVENT
DTSTART;TZID=Europe/Zurich:20260513T093000
DTEND;TZID=Europe/Zurich:20260513T150000
DTSTAMP:20260425T125211
CREATED:20260104T132921Z
LAST-MODIFIED:20260104T132921Z
UID:33870-1778664600-1778684400@vivag.ch
SUMMARY:COOKING CLUB
DESCRIPTION:
URL:https://vivag.ch/calendrier/cooking-club-27/
LOCATION:Complexe de Montoly\, Ch. de Montoly 3\, Gland\, 1196\, Suisse
ATTACH;FMTTYPE=image/jpeg:https://vivag.ch/wp-content/uploads/2025/11/97373b05-0a89-44fc-bc74-2490d8ae6f3d.jpeg
END:VEVENT
BEGIN:VEVENT
DTSTART;TZID=Europe/Zurich:20260513T140000
DTEND;TZID=Europe/Zurich:20260513T180000
DTSTAMP:20260425T125211
CREATED:20251220T083439Z
LAST-MODIFIED:20251220T083439Z
UID:33567-1778680800-1778695200@vivag.ch
SUMMARY:PETANQUE
DESCRIPTION:
URL:https://vivag.ch/calendrier/petanque-282/
LOCATION:Centre sportif En Bord\, Centre sportif En Bord\, Gland\, 1196\, Suisse
END:VEVENT
BEGIN:VEVENT
DTSTART;TZID=Europe/Zurich:20260515T093000
DTEND;TZID=Europe/Zurich:20260515T113000
DTSTAMP:20260425T125211
CREATED:20251230T113754Z
LAST-MODIFIED:20251230T113754Z
UID:33744-1778837400-1778844600@vivag.ch
SUMMARY:GYM EQUILIBRE
DESCRIPTION:
URL:https://vivag.ch/calendrier/gym-equilibre-30/
LOCATION:Salle de judo de Montoly\, Complexe de Montoly\, Gland\, 1196\, Switzerland
END:VEVENT
BEGIN:VEVENT
DTSTART;TZID=Europe/Zurich:20260516T140000
DTEND;TZID=Europe/Zurich:20260516T180000
DTSTAMP:20260425T125211
CREATED:20251220T091722Z
LAST-MODIFIED:20251220T091722Z
UID:33596-1778940000-1778954400@vivag.ch
SUMMARY:PETANQUE
DESCRIPTION:
URL:https://vivag.ch/calendrier/petanque-296/
LOCATION:Centre sportif En Bord\, Centre sportif En Bord\, Gland\, 1196\, Suisse
END:VEVENT
BEGIN:VEVENT
DTSTART;TZID=Europe/Zurich:20260518T000000
DTEND;TZID=Europe/Zurich:20260518T170000
DTSTAMP:20260425T125211
CREATED:20240716T070452Z
LAST-MODIFIED:20260421T163816Z
UID:31426-1779062400-1779123600@vivag.ch
SUMMARY:Marche
DESCRIPTION:LU 18 mai\,  Georges\, Rosine. RDV 9h30\, En Bord. Prendre son pique-nique \nDestination                        Mollendruz- Dent de Vaulion \nDurées – Dénivelé +/-      GM : Mollendruz) Pétraz-Félix – Dent de Vaulion \, 8 km  + / – 400 m \nPM :  Mollendruz en direction de Châtel\,  6\,5 km \, + / – 230 m; puis l’après-midi\, déplacement en voiture au Chalet de la Dent de Vaulion \nPrix de la course               Chauffeurs : GM Frs 12.- .  Parking GM au Col de Pétraz-Felix\, \nChauffeurs : PM  Frs 14.-    Parking PM au col du Mollendruz\, puis Buvette Dent de Vaulion. \n 
URL:https://vivag.ch/calendrier/marche-29/
LOCATION:Centre sportif En Bord\, Centre sportif En Bord\, Gland\, 1196\, Suisse
ORGANIZER;CN="Georges Grandjean":MAILTO:georges@grandjean.ch
END:VEVENT
BEGIN:VEVENT
DTSTART;TZID=Europe/Zurich:20260518T140000
DTEND;TZID=Europe/Zurich:20260518T160000
DTSTAMP:20260425T125211
CREATED:20260128T095608Z
LAST-MODIFIED:20260128T095608Z
UID:34001-1779112800-1779120000@vivag.ch
SUMMARY:ITALIEN
DESCRIPTION:
URL:https://vivag.ch/calendrier/italien-8/
LOCATION:Complexe de Montoly\, Ch. de Montoly 3\, Gland\, 1196\, Suisse
END:VEVENT
BEGIN:VEVENT
DTSTART;TZID=Europe/Zurich:20260518T180000
DTEND;TZID=Europe/Zurich:20260518T193000
DTSTAMP:20260425T125211
CREATED:20260104T194111Z
LAST-MODIFIED:20260104T194111Z
UID:33927-1779127200-1779132600@vivag.ch
SUMMARY:Tai-Chi
DESCRIPTION:
URL:https://vivag.ch/calendrier/tai-chi-109/
LOCATION:17 rue de la Combe
END:VEVENT
BEGIN:VEVENT
DTSTART;TZID=Europe/Zurich:20260519T093000
DTEND;TZID=Europe/Zurich:20260519T113000
DTSTAMP:20260425T125211
CREATED:20251231T083059Z
LAST-MODIFIED:20251231T083059Z
UID:33808-1779183000-1779190200@vivag.ch
SUMMARY:Aquarelle
DESCRIPTION:
URL:https://vivag.ch/calendrier/aquarelle-68/
LOCATION:Complexe de Montoly\, Ch. de Montoly 3\, Gland\, 1196\, Suisse
END:VEVENT
BEGIN:VEVENT
DTSTART;TZID=Europe/Zurich:20260519T150000
DTEND;TZID=Europe/Zurich:20260519T170000
DTSTAMP:20260425T125211
CREATED:20251230T111622Z
LAST-MODIFIED:20251230T111622Z
UID:33710-1779202800-1779210000@vivag.ch
SUMMARY:CINE-VIVAG
DESCRIPTION:
URL:https://vivag.ch/calendrier/cine-vivag-25/
LOCATION:Local Vivag\, Chemin de Montoly 3\, Gland\, 1196\, Suisse
ORGANIZER;CN="Jean-Luc Nicolet":MAILTO:cinevivag.gland@gmail.com
END:VEVENT
BEGIN:VEVENT
DTSTART;TZID=Europe/Zurich:20260520T093000
DTEND;TZID=Europe/Zurich:20260520T113000
DTSTAMP:20260425T125211
CREATED:20251227T133258Z
LAST-MODIFIED:20251227T133258Z
UID:33654-1779269400-1779276600@vivag.ch
SUMMARY:ACCUEIL
DESCRIPTION:
URL:https://vivag.ch/calendrier/accueil-140/
LOCATION:Local Vivag\, Chemin de Montoly 3\, Gland\, 1196\, Suisse
ATTACH;FMTTYPE=image/jpeg:https://vivag.ch/wp-content/uploads/2025/12/Accueil-photo-calendrier.jpeg
END:VEVENT
BEGIN:VEVENT
DTSTART;TZID=Europe/Zurich:20260520T120000
DTEND;TZID=Europe/Zurich:20260520T140000
DTSTAMP:20260425T125211
CREATED:20260104T131336Z
LAST-MODIFIED:20260104T131336Z
UID:33856-1779278400-1779285600@vivag.ch
SUMMARY:TABLE D'HÔTES
DESCRIPTION:
URL:https://vivag.ch/calendrier/table-dhotes-35/
LOCATION:Aux Trésors des Iles\, Rue de Malagny 8\, Gland\, 1196\, Suisse
ATTACH;FMTTYPE=image/jpeg:https://vivag.ch/wp-content/uploads/2024/07/2088a0a5-56ff-4a0a-adb0-e8d58e9d93b9.jpg
END:VEVENT
END:VCALENDAR