BEGIN:VCALENDAR
VERSION:2.0
PRODID:-//VIVAG - ECPv6.15.20//NONSGML v1.0//EN
CALSCALE:GREGORIAN
METHOD:PUBLISH
X-WR-CALNAME:VIVAG
X-ORIGINAL-URL:https://vivag.ch
X-WR-CALDESC:Évènements pour VIVAG
REFRESH-INTERVAL;VALUE=DURATION:PT1H
X-Robots-Tag:noindex
X-PUBLISHED-TTL:PT1H
BEGIN:VTIMEZONE
TZID:Europe/Zurich
BEGIN:DAYLIGHT
TZOFFSETFROM:+0100
TZOFFSETTO:+0200
TZNAME:CEST
DTSTART:20250330T010000
END:DAYLIGHT
BEGIN:STANDARD
TZOFFSETFROM:+0200
TZOFFSETTO:+0100
TZNAME:CET
DTSTART:20251026T010000
END:STANDARD
BEGIN:DAYLIGHT
TZOFFSETFROM:+0100
TZOFFSETTO:+0200
TZNAME:CEST
DTSTART:20260329T010000
END:DAYLIGHT
BEGIN:STANDARD
TZOFFSETFROM:+0200
TZOFFSETTO:+0100
TZNAME:CET
DTSTART:20261025T010000
END:STANDARD
BEGIN:DAYLIGHT
TZOFFSETFROM:+0100
TZOFFSETTO:+0200
TZNAME:CEST
DTSTART:20270328T010000
END:DAYLIGHT
BEGIN:STANDARD
TZOFFSETFROM:+0200
TZOFFSETTO:+0100
TZNAME:CET
DTSTART:20271031T010000
END:STANDARD
END:VTIMEZONE
BEGIN:VEVENT
DTSTART;TZID=Europe/Zurich:20260302T133000
DTEND;TZID=Europe/Zurich:20260302T170000
DTSTAMP:20260422T042118
CREATED:20230528T055339Z
LAST-MODIFIED:20260224T193631Z
UID:29765-1772458200-1772470800@vivag.ch
SUMMARY:Marche
DESCRIPTION:LU 2 mars.  Marche de reprise à Gland. RDV 13h30 à la salle Vivag de Montoly. \nPrésentation des marches du Printemps – Été 2026. \nEncaissement des Cotisations Vivag 20.- et pour le groupe de Marche également 20.- \nPetite randonnée dans le secteur Gland – Sud. \nPour toutes questions à ce sujet vous pouvez sans autre contacter Laurent Sumi à l’adresse laurentsumi@bluewin.ch ou au 077 269 10 38
URL:https://vivag.ch/calendrier/marche/
LOCATION:Local Vivag\, Chemin de Montoly 3\, Gland\, 1196\, Suisse
ORGANIZER;CN="Laurent Sumi":MAILTO:laurentsumi@bluewin.ch
END:VEVENT
BEGIN:VEVENT
DTSTART;TZID=Europe/Zurich:20260302T180000
DTEND;TZID=Europe/Zurich:20260302T193000
DTSTAMP:20260422T042118
CREATED:20260104T192957Z
LAST-MODIFIED:20260104T192957Z
UID:33906-1772474400-1772479800@vivag.ch
SUMMARY:Tai-Chi
DESCRIPTION:
URL:https://vivag.ch/calendrier/tai-chi-99/
LOCATION:17 rue de la Combe
END:VEVENT
BEGIN:VEVENT
DTSTART;TZID=Europe/Zurich:20260303T093000
DTEND;TZID=Europe/Zurich:20260303T110000
DTSTAMP:20260422T042118
CREATED:20260104T195741Z
LAST-MODIFIED:20260104T195741Z
UID:33947-1772530200-1772535600@vivag.ch
SUMMARY:allemand
DESCRIPTION:
URL:https://vivag.ch/calendrier/allemand-65/
LOCATION:Complexe de Montoly\, Ch. de Montoly 3\, Gland\, 1196\, Suisse
END:VEVENT
BEGIN:VEVENT
DTSTART;TZID=Europe/Zurich:20260303T153000
DTEND;TZID=Europe/Zurich:20260303T170000
DTSTAMP:20260422T042118
CREATED:20251230T110707Z
LAST-MODIFIED:20251230T110707Z
UID:33698-1772551800-1772557200@vivag.ch
SUMMARY:DESSIN MEDITATIF
DESCRIPTION:
URL:https://vivag.ch/calendrier/dessin-meditatif-16/
LOCATION:Local Vivag\, Chemin de Montoly 3\, Gland\, 1196\, Suisse
END:VEVENT
BEGIN:VEVENT
DTSTART;TZID=Europe/Zurich:20260304T091500
DTEND;TZID=Europe/Zurich:20260304T100000
DTSTAMP:20260422T042118
CREATED:20240903T174604Z
LAST-MODIFIED:20251226T173724Z
UID:31823-1772615700-1772618400@vivag.ch
SUMMARY:Marche Vas'Y mollo
DESCRIPTION:Petite marche de 45 à 50 minutes à Gland ou dans ses environs au départ du parking de Montoly. \nMarche ouverte à tous les membres Vivag pouvant marcher sans assistance particulière \nPour toutes questions vous pouvez contacter Laurent Sumi au 077 269 10 38
URL:https://vivag.ch/calendrier/marche-vasy-mollo-13/
LOCATION:Complexe de Montoly\, Ch. de Montoly 3\, Gland\, 1196\, Suisse
ORGANIZER;CN="Laurent Sumi":MAILTO:laurentsumi@bluewin.ch
END:VEVENT
BEGIN:VEVENT
DTSTART;TZID=Europe/Zurich:20260304T093000
DTEND;TZID=Europe/Zurich:20260304T113000
DTSTAMP:20260422T042118
CREATED:20251227T132152Z
LAST-MODIFIED:20251227T132152Z
UID:33632-1772616600-1772623800@vivag.ch
SUMMARY:ACCUEIL
DESCRIPTION:
URL:https://vivag.ch/calendrier/accueil-129/
LOCATION:Local Vivag\, Chemin de Montoly 3\, Gland\, 1196\, Suisse
ATTACH;FMTTYPE=image/jpeg:https://vivag.ch/wp-content/uploads/2025/12/Accueil-photo-calendrier.jpeg
END:VEVENT
BEGIN:VEVENT
DTSTART;TZID=Europe/Zurich:20260304T093000
DTEND;TZID=Europe/Zurich:20260304T150000
DTSTAMP:20260422T042118
CREATED:20260104T132653Z
LAST-MODIFIED:20260104T132653Z
UID:33866-1772616600-1772636400@vivag.ch
SUMMARY:COOKING CLUB
DESCRIPTION:
URL:https://vivag.ch/calendrier/cooking-club-25/
LOCATION:Complexe de Montoly\, Ch. de Montoly 3\, Gland\, 1196\, Suisse
ATTACH;FMTTYPE=image/jpeg:https://vivag.ch/wp-content/uploads/2025/11/9d46819f-5320-4c86-a0fe-4bbf3a045eab.jpeg
END:VEVENT
BEGIN:VEVENT
DTSTART;TZID=Europe/Zurich:20260304T140000
DTEND;TZID=Europe/Zurich:20260304T180000
DTSTAMP:20260422T042118
CREATED:20251220T075733Z
LAST-MODIFIED:20251220T075733Z
UID:33530-1772632800-1772647200@vivag.ch
SUMMARY:PETANQUE
DESCRIPTION:
URL:https://vivag.ch/calendrier/petanque-264/
LOCATION:Perroy\, Chemin des Rivières\, Perroy\, 1166\, Suisse
END:VEVENT
BEGIN:VEVENT
DTSTART;TZID=Europe/Zurich:20260305T140000
DTEND;TZID=Europe/Zurich:20260305T160000
DTSTAMP:20260422T042118
CREATED:20251231T075954Z
LAST-MODIFIED:20251231T075954Z
UID:33774-1772719200-1772726400@vivag.ch
SUMMARY:Anglais
DESCRIPTION:
URL:https://vivag.ch/calendrier/anglais-32/
LOCATION:Complexe de Montoly\, Ch. de Montoly 3\, Gland\, 1196\, Suisse
END:VEVENT
BEGIN:VEVENT
DTSTART;TZID=Europe/Zurich:20260306T093000
DTEND;TZID=Europe/Zurich:20260306T113000
DTSTAMP:20260422T042118
CREATED:20251230T112553Z
LAST-MODIFIED:20251230T112553Z
UID:33728-1772789400-1772796600@vivag.ch
SUMMARY:GYM EQUILIBRE
DESCRIPTION:
URL:https://vivag.ch/calendrier/gym-equilibre-22/
LOCATION:Salle de judo de Montoly\, Complexe de Montoly\, Gland\, 1196\, Switzerland
END:VEVENT
BEGIN:VEVENT
DTSTART;TZID=Europe/Zurich:20260306T140000
DTEND;TZID=Europe/Zurich:20260306T163000
DTSTAMP:20260422T042118
CREATED:20240103T173946Z
LAST-MODIFIED:20251226T170952Z
UID:30906-1772805600-1772814600@vivag.ch
SUMMARY:ECHECS
DESCRIPTION:Tous les vendredis après-midi au local Vivag du complexe de Montoly. \n« pour apprendre en s’amusant » \nPour tous renseignements\, merci de contacter Michel De Bondt au 079 822 89 20 ou par messagerie à l’adresse : micheldebondt48@gmail.com
URL:https://vivag.ch/calendrier/echecs-11/
LOCATION:Local Vivag\, Chemin de Montoly 3\, Gland\, 1196\, Suisse
ORGANIZER;CN="Michel Debondt":MAILTO:micheldebondt@gmail.com
END:VEVENT
BEGIN:VEVENT
DTSTART;TZID=Europe/Zurich:20260306T140000
DTEND;TZID=Europe/Zurich:20260306T180000
DTSTAMP:20260422T042118
CREATED:20251220T080127Z
LAST-MODIFIED:20251220T080127Z
UID:33538-1772805600-1772820000@vivag.ch
SUMMARY:PETANQUE
DESCRIPTION:
URL:https://vivag.ch/calendrier/petanque-268/
LOCATION:Perroy\, Chemin des Rivières\, Perroy\, 1166\, Suisse
END:VEVENT
BEGIN:VEVENT
DTSTART;TZID=Europe/Zurich:20260308T120000
DTEND;TZID=Europe/Zurich:20260308T140000
DTSTAMP:20260422T042118
CREATED:20260104T130246Z
LAST-MODIFIED:20260104T130246Z
UID:33840-1772971200-1772978400@vivag.ch
SUMMARY:TABLE D'HÔTES
DESCRIPTION:
URL:https://vivag.ch/calendrier/table-dhotes-27/
LOCATION:Aux Trésors des Iles\, Rue de Malagny 8\, Gland\, 1196\, Suisse
ATTACH;FMTTYPE=image/jpeg:https://vivag.ch/wp-content/uploads/2023/08/2088a0a5-56ff-4a0a-adb0-e8d58e9d93b9.jpg
END:VEVENT
BEGIN:VEVENT
DTSTART;TZID=Europe/Zurich:20260309T140000
DTEND;TZID=Europe/Zurich:20260309T160000
DTSTAMP:20260422T042118
CREATED:20260128T095135Z
LAST-MODIFIED:20260128T095135Z
UID:33991-1773064800-1773072000@vivag.ch
SUMMARY:ITALIEN
DESCRIPTION:
URL:https://vivag.ch/calendrier/italien-3/
LOCATION:Complexe de Montoly\, Ch. de Montoly 3\, Gland\, 1196\, Suisse
END:VEVENT
BEGIN:VEVENT
DTSTART;TZID=Europe/Zurich:20260309T180000
DTEND;TZID=Europe/Zurich:20260309T193000
DTSTAMP:20260422T042118
CREATED:20260104T193046Z
LAST-MODIFIED:20260104T193046Z
UID:33908-1773079200-1773084600@vivag.ch
SUMMARY:Tai-Chi
DESCRIPTION:
URL:https://vivag.ch/calendrier/tai-chi-100/
LOCATION:17 rue de la Combe
END:VEVENT
BEGIN:VEVENT
DTSTART;TZID=Europe/Zurich:20260310T093000
DTEND;TZID=Europe/Zurich:20260310T113000
DTSTAMP:20260422T042118
CREATED:20251231T082307Z
LAST-MODIFIED:20251231T082307Z
UID:33798-1773135000-1773142200@vivag.ch
SUMMARY:Aquarelle
DESCRIPTION:
URL:https://vivag.ch/calendrier/aquarelle-63/
LOCATION:Complexe de Montoly\, Ch. de Montoly 3\, Gland\, 1196\, Suisse
END:VEVENT
BEGIN:VEVENT
DTSTART;TZID=Europe/Zurich:20260310T120000
DTEND;TZID=Europe/Zurich:20260310T140000
DTSTAMP:20260422T042118
CREATED:20260104T130417Z
LAST-MODIFIED:20260104T130417Z
UID:33842-1773144000-1773151200@vivag.ch
SUMMARY:TABLE D'HÔTES
DESCRIPTION:
URL:https://vivag.ch/calendrier/table-dhotes-28/
LOCATION:Chez Ineke\, Chemin des Oiseaux 18\, Gland\, 1196\, Suisse
ATTACH;FMTTYPE=image/jpeg:https://vivag.ch/wp-content/uploads/2023/09/56debfb6-b3d6-492b-9f1a-af9536683510.jpg
END:VEVENT
BEGIN:VEVENT
DTSTART;TZID=Europe/Zurich:20260310T140000
DTEND;TZID=Europe/Zurich:20260310T160000
DTSTAMP:20260422T042118
CREATED:20251220T070352Z
LAST-MODIFIED:20251220T072411Z
UID:33480-1773151200-1773158400@vivag.ch
SUMMARY:SCRABBLE
DESCRIPTION:
URL:https://vivag.ch/calendrier/scrabble-14/
LOCATION:Local Vivag\, Chemin de Montoly 3\, Gland\, 1196\, Suisse
END:VEVENT
BEGIN:VEVENT
DTSTART;TZID=Europe/Zurich:20260311T093000
DTEND;TZID=Europe/Zurich:20260311T123000
DTSTAMP:20260422T042118
CREATED:20251227T132243Z
LAST-MODIFIED:20251227T132243Z
UID:33634-1773221400-1773232200@vivag.ch
SUMMARY:ACCUEIL
DESCRIPTION:
URL:https://vivag.ch/calendrier/accueil-130/
LOCATION:Local Vivag\, Chemin de Montoly 3\, Gland\, 1196\, Suisse
ATTACH;FMTTYPE=image/jpeg:https://vivag.ch/wp-content/uploads/2025/12/Accueil-photo-calendrier.jpeg
END:VEVENT
BEGIN:VEVENT
DTSTART;TZID=Europe/Zurich:20260311T140000
DTEND;TZID=Europe/Zurich:20260311T180000
DTSTAMP:20260422T042118
CREATED:20251220T075821Z
LAST-MODIFIED:20251220T075821Z
UID:33532-1773237600-1773252000@vivag.ch
SUMMARY:PETANQUE
DESCRIPTION:
URL:https://vivag.ch/calendrier/petanque-265/
LOCATION:Perroy\, Chemin des Rivières\, Perroy\, 1166\, Suisse
END:VEVENT
BEGIN:VEVENT
DTSTART;TZID=Europe/Zurich:20260313T093000
DTEND;TZID=Europe/Zurich:20260313T110000
DTSTAMP:20260422T042118
CREATED:20251227T135220Z
LAST-MODIFIED:20251227T135220Z
UID:33674-1773394200-1773399600@vivag.ch
SUMMARY:ESPAGNOL
DESCRIPTION:
URL:https://vivag.ch/calendrier/espagnol-57/
LOCATION:Local Vivag\, Chemin de Montoly 3\, Gland\, 1196\, Suisse
ATTACH;FMTTYPE=image/jpeg:https://vivag.ch/wp-content/uploads/2025/12/Espagnol-photo-calendrier.jpg
END:VEVENT
BEGIN:VEVENT
DTSTART;TZID=Europe/Zurich:20260313T093000
DTEND;TZID=Europe/Zurich:20260313T113000
DTSTAMP:20260422T042118
CREATED:20251230T112640Z
LAST-MODIFIED:20251230T112640Z
UID:33730-1773394200-1773401400@vivag.ch
SUMMARY:GYM EQUILIBRE
DESCRIPTION:
URL:https://vivag.ch/calendrier/gym-equilibre-23/
LOCATION:Salle de judo de Montoly\, Complexe de Montoly\, Gland\, 1196\, Switzerland
END:VEVENT
BEGIN:VEVENT
DTSTART;TZID=Europe/Zurich:20260313T140000
DTEND;TZID=Europe/Zurich:20260313T163000
DTSTAMP:20260422T042118
CREATED:20230817T193039Z
LAST-MODIFIED:20251226T171144Z
UID:30373-1773410400-1773419400@vivag.ch
SUMMARY:ECHECS
DESCRIPTION:Tous les vendredis après-midi au local Vivag du complexe de Montoly. \n« pour apprendre en s’amusant » \nPour tous renseignements\, merci de contacter Michel De Bondt au 079 822 89 20 ou par messagerie à l’adresse : micheldebondt48@gmail.com \n  \n 
URL:https://vivag.ch/calendrier/echecs-9/
LOCATION:Local Vivag\, Chemin de Montoly 3\, Gland\, 1196\, Suisse
ORGANIZER;CN="Michel Debondt":MAILTO:micheldebondt@gmail.com
END:VEVENT
BEGIN:VEVENT
DTSTART;TZID=Europe/Zurich:20260313T140000
DTEND;TZID=Europe/Zurich:20260313T180000
DTSTAMP:20260422T042118
CREATED:20251220T080204Z
LAST-MODIFIED:20251220T082256Z
UID:33540-1773410400-1773424800@vivag.ch
SUMMARY:PETANQUE
DESCRIPTION:
URL:https://vivag.ch/calendrier/petanque-269/
LOCATION:Perroy\, Chemin des Rivières\, Perroy\, 1166\, Suisse
END:VEVENT
BEGIN:VEVENT
DTSTART;TZID=Europe/Zurich:20260316T123000
DTEND;TZID=Europe/Zurich:20260316T173000
DTSTAMP:20260422T042118
CREATED:20240716T070631Z
LAST-MODIFIED:20251226T173606Z
UID:31428-1773664200-1773682200@vivag.ch
SUMMARY:Marche
DESCRIPTION:Date                               LU 16 mars\, Pierre\, Ruthie  RDV 12h50 Gare de Gland\, voie 1. Départ 12h59. \nDestination                     Lausanne\, randonnée des Croisettes à la Gare via les gorges du Flon et Sauvabelin \nDurées – Dénivelé          1 seule marche : distance 8\,3 km.  dénivelé  111 m + / 375 m – \nPrix de la course            Billet collectif : ½ tarif  12\,50 \, entier 25.-. \nInscription obligatoire    jusqu’au jeudi 12 mars\, 12h00\, auprès de Pierre JOYE au 077 531 85 75\, adresse de messagerie :  pierre_joye@hotmail.com \n 
URL:https://vivag.ch/calendrier/marche-30/
LOCATION:Gare de Gland
ORGANIZER;CN="Laurent Sumi":MAILTO:laurentsumi@bluewin.ch
END:VEVENT
BEGIN:VEVENT
DTSTART;TZID=Europe/Zurich:20260316T180000
DTEND;TZID=Europe/Zurich:20260316T193000
DTSTAMP:20260422T042118
CREATED:20260104T193136Z
LAST-MODIFIED:20260104T193136Z
UID:33910-1773684000-1773689400@vivag.ch
SUMMARY:Tai-Chi
DESCRIPTION:
URL:https://vivag.ch/calendrier/tai-chi-101/
LOCATION:17 rue de la Combe
END:VEVENT
BEGIN:VEVENT
DTSTART;TZID=Europe/Zurich:20260317T093000
DTEND;TZID=Europe/Zurich:20260317T110000
DTSTAMP:20260422T042118
CREATED:20260104T195832Z
LAST-MODIFIED:20260104T195832Z
UID:33949-1773739800-1773745200@vivag.ch
SUMMARY:allemand
DESCRIPTION:
URL:https://vivag.ch/calendrier/allemand-66/
LOCATION:Complexe de Montoly\, Ch. de Montoly 3\, Gland\, 1196\, Suisse
END:VEVENT
BEGIN:VEVENT
DTSTART;TZID=Europe/Zurich:20260318T091500
DTEND;TZID=Europe/Zurich:20260318T100000
DTSTAMP:20260422T042118
CREATED:20240830T165951Z
LAST-MODIFIED:20251226T173852Z
UID:31807-1773825300-1773828000@vivag.ch
SUMMARY:Marche Vas'Y mollo
DESCRIPTION:Marche Vas’Y Mollo dans les environs de Montoly. \nPetite marche aux conditions usuelles. \nPour toutes questions concernant ces marches vous pouvez contacter Laurent Sumi au 077 269 10 38 \n 
URL:https://vivag.ch/calendrier/marche-vasy-mollo-10/
LOCATION:Complexe de Montoly\, Ch. de Montoly 3\, Gland\, 1196\, Suisse
END:VEVENT
BEGIN:VEVENT
DTSTART;TZID=Europe/Zurich:20260318T093000
DTEND;TZID=Europe/Zurich:20260318T113000
DTSTAMP:20260422T042118
CREATED:20251227T132342Z
LAST-MODIFIED:20251227T132342Z
UID:33636-1773826200-1773833400@vivag.ch
SUMMARY:ACCUEIL
DESCRIPTION:
URL:https://vivag.ch/calendrier/accueil-131/
LOCATION:Local Vivag\, Chemin de Montoly 3\, Gland\, 1196\, Suisse
ATTACH;FMTTYPE=image/jpeg:https://vivag.ch/wp-content/uploads/2025/12/Accueil-photo-calendrier.jpeg
END:VEVENT
BEGIN:VEVENT
DTSTART;TZID=Europe/Zurich:20260318T120000
DTEND;TZID=Europe/Zurich:20260318T140000
DTSTAMP:20260422T042118
CREATED:20260104T130536Z
LAST-MODIFIED:20260104T130536Z
UID:33844-1773835200-1773842400@vivag.ch
SUMMARY:TABLE D'HÔTES
DESCRIPTION:
URL:https://vivag.ch/calendrier/table-dhotes-29/
LOCATION:Aux Trésors des Iles\, Rue de Malagny 8\, Gland\, 1196\, Suisse
ATTACH;FMTTYPE=image/jpeg:https://vivag.ch/wp-content/uploads/2023/08/2088a0a5-56ff-4a0a-adb0-e8d58e9d93b9.jpg
END:VEVENT
END:VCALENDAR