BEGIN:VCALENDAR
VERSION:2.0
PRODID:-//VIVAG - ECPv6.15.20//NONSGML v1.0//EN
CALSCALE:GREGORIAN
METHOD:PUBLISH
X-WR-CALNAME:VIVAG
X-ORIGINAL-URL:https://vivag.ch
X-WR-CALDESC:Évènements pour VIVAG
REFRESH-INTERVAL;VALUE=DURATION:PT1H
X-Robots-Tag:noindex
X-PUBLISHED-TTL:PT1H
BEGIN:VTIMEZONE
TZID:Europe/Zurich
BEGIN:DAYLIGHT
TZOFFSETFROM:+0100
TZOFFSETTO:+0200
TZNAME:CEST
DTSTART:20250330T010000
END:DAYLIGHT
BEGIN:STANDARD
TZOFFSETFROM:+0200
TZOFFSETTO:+0100
TZNAME:CET
DTSTART:20251026T010000
END:STANDARD
BEGIN:DAYLIGHT
TZOFFSETFROM:+0100
TZOFFSETTO:+0200
TZNAME:CEST
DTSTART:20260329T010000
END:DAYLIGHT
BEGIN:STANDARD
TZOFFSETFROM:+0200
TZOFFSETTO:+0100
TZNAME:CET
DTSTART:20261025T010000
END:STANDARD
BEGIN:DAYLIGHT
TZOFFSETFROM:+0100
TZOFFSETTO:+0200
TZNAME:CEST
DTSTART:20270328T010000
END:DAYLIGHT
BEGIN:STANDARD
TZOFFSETFROM:+0200
TZOFFSETTO:+0100
TZNAME:CET
DTSTART:20271031T010000
END:STANDARD
END:VTIMEZONE
BEGIN:VEVENT
DTSTART;TZID=Europe/Zurich:20260202T180000
DTEND;TZID=Europe/Zurich:20260202T193000
DTSTAMP:20260422T080702
CREATED:20260104T192601Z
LAST-MODIFIED:20260104T192601Z
UID:33898-1770055200-1770060600@vivag.ch
SUMMARY:Tai-Chi
DESCRIPTION:
URL:https://vivag.ch/calendrier/tai-chi-95/
LOCATION:17 rue de la Combe
END:VEVENT
BEGIN:VEVENT
DTSTART;TZID=Europe/Zurich:20260203T093000
DTEND;TZID=Europe/Zurich:20260203T110000
DTSTAMP:20260422T080702
CREATED:20260104T195602Z
LAST-MODIFIED:20260104T195602Z
UID:33943-1770111000-1770116400@vivag.ch
SUMMARY:allemand
DESCRIPTION:
URL:https://vivag.ch/calendrier/allemand-63/
LOCATION:Complexe de Montoly\, Ch. de Montoly 3\, Gland\, 1196\, Suisse
END:VEVENT
BEGIN:VEVENT
DTSTART;TZID=Europe/Zurich:20260203T153000
DTEND;TZID=Europe/Zurich:20260203T170000
DTSTAMP:20260422T080702
CREATED:20251230T110604Z
LAST-MODIFIED:20251230T110604Z
UID:33696-1770132600-1770138000@vivag.ch
SUMMARY:DESSIN MEDITATF
DESCRIPTION:
URL:https://vivag.ch/calendrier/dessin-meditatf/
LOCATION:Local Vivag\, Chemin de Montoly 3\, Gland\, 1196\, Suisse
END:VEVENT
BEGIN:VEVENT
DTSTART;TZID=Europe/Zurich:20260204T093000
DTEND;TZID=Europe/Zurich:20260204T113000
DTSTAMP:20260422T080702
CREATED:20251227T131813Z
LAST-MODIFIED:20251227T131813Z
UID:33624-1770197400-1770204600@vivag.ch
SUMMARY:ACCUEIL
DESCRIPTION:
URL:https://vivag.ch/calendrier/accueil-125/
LOCATION:Local Vivag\, Chemin de Montoly 3\, Gland\, 1196\, Suisse
ATTACH;FMTTYPE=image/jpeg:https://vivag.ch/wp-content/uploads/2025/12/Accueil-photo-calendrier.jpeg
END:VEVENT
BEGIN:VEVENT
DTSTART;TZID=Europe/Zurich:20260204T140000
DTEND;TZID=Europe/Zurich:20260204T180000
DTSTAMP:20260422T080702
CREATED:20251220T074839Z
LAST-MODIFIED:20251220T074839Z
UID:33512-1770213600-1770228000@vivag.ch
SUMMARY:PETANQUE
DESCRIPTION:
URL:https://vivag.ch/calendrier/petanque-255/
LOCATION:Perroy\, Chemin des Rivières\, Perroy\, 1166\, Suisse
END:VEVENT
BEGIN:VEVENT
DTSTART;TZID=Europe/Zurich:20260205T140000
DTEND;TZID=Europe/Zurich:20260205T160000
DTSTAMP:20260422T080702
CREATED:20251231T075147Z
LAST-MODIFIED:20251231T075357Z
UID:33765-1770300000-1770307200@vivag.ch
SUMMARY:Anglais
DESCRIPTION:
URL:https://vivag.ch/calendrier/anglais-29/
LOCATION:Complexe de Montoly\, Ch. de Montoly 3\, Gland\, 1196\, Suisse
END:VEVENT
BEGIN:VEVENT
DTSTART;TZID=Europe/Zurich:20260206T093000
DTEND;TZID=Europe/Zurich:20260206T113000
DTSTAMP:20260422T080702
CREATED:20251230T112244Z
LAST-MODIFIED:20251230T112244Z
UID:33722-1770370200-1770377400@vivag.ch
SUMMARY:GYM EQUILIBRE
DESCRIPTION:
URL:https://vivag.ch/calendrier/gym-equilibre-19/
LOCATION:Salle de judo de Montoly\, Complexe de Montoly\, Gland\, 1196\, Switzerland
END:VEVENT
BEGIN:VEVENT
DTSTART;TZID=Europe/Zurich:20260206T140000
DTEND;TZID=Europe/Zurich:20260206T163000
DTSTAMP:20260422T080702
CREATED:20240103T174413Z
LAST-MODIFIED:20251226T170604Z
UID:30914-1770386400-1770395400@vivag.ch
SUMMARY:ECHECS
DESCRIPTION:Tous les vendredis après-midi au local Vivag du complexe de Montoly. \n« pour apprendre en s’amusant » \nPour tous renseignements\, merci de contacter Michel De Bondt au 079 822 89 20 ou par messagerie à l’adresse : micheldebondt48@gmail.com
URL:https://vivag.ch/calendrier/echecs-15/
LOCATION:Local Vivag\, Chemin de Montoly 3\, Gland\, 1196\, Suisse
ORGANIZER;CN="Michel Debondt":MAILTO:micheldebondt@gmail.com
END:VEVENT
BEGIN:VEVENT
DTSTART;TZID=Europe/Zurich:20260206T140000
DTEND;TZID=Europe/Zurich:20260206T180000
DTSTAMP:20260422T080702
CREATED:20251220T075300Z
LAST-MODIFIED:20251220T075300Z
UID:33520-1770386400-1770400800@vivag.ch
SUMMARY:PETANQUE
DESCRIPTION:
URL:https://vivag.ch/calendrier/petanque-259/
LOCATION:Perroy\, Chemin des Rivières\, Perroy\, 1166\, Suisse
END:VEVENT
BEGIN:VEVENT
DTSTART;TZID=Europe/Zurich:20260208T120000
DTEND;TZID=Europe/Zurich:20260208T140000
DTSTAMP:20260422T080702
CREATED:20260104T125540Z
LAST-MODIFIED:20260104T125540Z
UID:33834-1770552000-1770559200@vivag.ch
SUMMARY:TABLE D'HÔTES
DESCRIPTION:
URL:https://vivag.ch/calendrier/table-dhotes-24/
LOCATION:Aux Trésors des Iles\, Rue de Malagny 8\, Gland\, 1196\, Suisse
ATTACH;FMTTYPE=image/jpeg:https://vivag.ch/wp-content/uploads/2023/08/2088a0a5-56ff-4a0a-adb0-e8d58e9d93b9.jpg
END:VEVENT
BEGIN:VEVENT
DTSTART;TZID=Europe/Zurich:20260209T140000
DTEND;TZID=Europe/Zurich:20260209T160000
DTSTAMP:20260422T080702
CREATED:20260128T100404Z
LAST-MODIFIED:20260128T100404Z
UID:34009-1770645600-1770652800@vivag.ch
SUMMARY:ITALIEN
DESCRIPTION:
URL:https://vivag.ch/calendrier/italien-11/
LOCATION:Complexe de Montoly\, Ch. de Montoly 3\, Gland\, 1196\, Suisse
END:VEVENT
BEGIN:VEVENT
DTSTART;TZID=Europe/Zurich:20260209T180000
DTEND;TZID=Europe/Zurich:20260209T193000
DTSTAMP:20260422T080702
CREATED:20260104T192656Z
LAST-MODIFIED:20260104T192656Z
UID:33900-1770660000-1770665400@vivag.ch
SUMMARY:Tai-Chi
DESCRIPTION:
URL:https://vivag.ch/calendrier/tai-chi-96/
LOCATION:17 rue de la Combe
END:VEVENT
BEGIN:VEVENT
DTSTART;TZID=Europe/Zurich:20260210T093000
DTEND;TZID=Europe/Zurich:20260210T113000
DTSTAMP:20260422T080702
CREATED:20251231T081941Z
LAST-MODIFIED:20251231T081941Z
UID:33794-1770715800-1770723000@vivag.ch
SUMMARY:Aquarelle
DESCRIPTION:
URL:https://vivag.ch/calendrier/aquarelle-61/
LOCATION:Complexe de Montoly\, Ch. de Montoly 3\, Gland\, 1196\, Suisse
END:VEVENT
BEGIN:VEVENT
DTSTART;TZID=Europe/Zurich:20260210T120000
DTEND;TZID=Europe/Zurich:20260210T140000
DTSTAMP:20260422T080702
CREATED:20260104T125805Z
LAST-MODIFIED:20260104T125805Z
UID:33836-1770724800-1770732000@vivag.ch
SUMMARY:TABLE D'HÔTES
DESCRIPTION:
URL:https://vivag.ch/calendrier/table-dhotes-25/
LOCATION:Chez Ineke\, Chemin des Oiseaux 18\, Gland\, 1196\, Suisse
ATTACH;FMTTYPE=image/jpeg:https://vivag.ch/wp-content/uploads/2023/09/56debfb6-b3d6-492b-9f1a-af9536683510.jpg
END:VEVENT
BEGIN:VEVENT
DTSTART;TZID=Europe/Zurich:20260210T140000
DTEND;TZID=Europe/Zurich:20260210T160000
DTSTAMP:20260422T080702
CREATED:20251220T070028Z
LAST-MODIFIED:20251220T070028Z
UID:33476-1770732000-1770739200@vivag.ch
SUMMARY:SCRABBLE
DESCRIPTION:
URL:https://vivag.ch/calendrier/scrabble-12/
LOCATION:Local Vivag\, Chemin de Montoly 3\, Gland\, 1196\, Suisse
END:VEVENT
BEGIN:VEVENT
DTSTART;TZID=Europe/Zurich:20260211T093000
DTEND;TZID=Europe/Zurich:20260211T113000
DTSTAMP:20260422T080702
CREATED:20251227T131916Z
LAST-MODIFIED:20251227T131916Z
UID:33626-1770802200-1770809400@vivag.ch
SUMMARY:ACCUEIL
DESCRIPTION:
URL:https://vivag.ch/calendrier/accueil-126/
LOCATION:Local Vivag\, Chemin de Montoly 3\, Gland\, 1196\, Suisse
ATTACH;FMTTYPE=image/jpeg:https://vivag.ch/wp-content/uploads/2025/12/Accueil-photo-calendrier.jpeg
END:VEVENT
BEGIN:VEVENT
DTSTART;TZID=Europe/Zurich:20260211T140000
DTEND;TZID=Europe/Zurich:20260211T180000
DTSTAMP:20260422T080702
CREATED:20251220T074928Z
LAST-MODIFIED:20251220T074928Z
UID:33514-1770818400-1770832800@vivag.ch
SUMMARY:PETANQUE
DESCRIPTION:
URL:https://vivag.ch/calendrier/petanque-256/
LOCATION:Perroy\, Chemin des Rivières\, Perroy\, 1166\, Suisse
END:VEVENT
BEGIN:VEVENT
DTSTART;TZID=Europe/Zurich:20260213T093000
DTEND;TZID=Europe/Zurich:20260213T110000
DTSTAMP:20260422T080702
CREATED:20251227T134949Z
LAST-MODIFIED:20251227T134949Z
UID:33670-1770975000-1770980400@vivag.ch
SUMMARY:ESPAGNOL
DESCRIPTION:
URL:https://vivag.ch/calendrier/espagnol-55/
LOCATION:Local Vivag\, Chemin de Montoly 3\, Gland\, 1196\, Suisse
ATTACH;FMTTYPE=image/jpeg:https://vivag.ch/wp-content/uploads/2025/12/Espagnol-photo-calendrier.jpg
END:VEVENT
BEGIN:VEVENT
DTSTART;TZID=Europe/Zurich:20260213T093000
DTEND;TZID=Europe/Zurich:20260213T113000
DTSTAMP:20260422T080702
CREATED:20251230T112333Z
LAST-MODIFIED:20251230T112333Z
UID:33724-1770975000-1770982200@vivag.ch
SUMMARY:GYM EQUILIBRE
DESCRIPTION:
URL:https://vivag.ch/calendrier/gym-equilibre-20/
LOCATION:Salle de judo de Montoly\, Complexe de Montoly\, Gland\, 1196\, Switzerland
END:VEVENT
BEGIN:VEVENT
DTSTART;TZID=Europe/Zurich:20260213T140000
DTEND;TZID=Europe/Zurich:20260213T163000
DTSTAMP:20260422T080702
CREATED:20240103T174312Z
LAST-MODIFIED:20251226T170652Z
UID:30912-1770991200-1771000200@vivag.ch
SUMMARY:ECHECS
DESCRIPTION:Tous les vendredis après-midi au local Vivag du complexe de Montoly. \n« pour apprendre en s’amusant » \nPour tous renseignements\, merci de contacter Michel De Bondt au 079 822 89 20 ou par messagerie à l’adresse : micheldebondt48@gmail.com
URL:https://vivag.ch/calendrier/echecs-14/
LOCATION:Local Vivag\, Chemin de Montoly 3\, Gland\, 1196\, Suisse
ORGANIZER;CN="Michel Debondt":MAILTO:micheldebondt@gmail.com
END:VEVENT
BEGIN:VEVENT
DTSTART;TZID=Europe/Zurich:20260213T140000
DTEND;TZID=Europe/Zurich:20260213T180000
DTSTAMP:20260422T080702
CREATED:20251220T075340Z
LAST-MODIFIED:20251220T075340Z
UID:33522-1770991200-1771005600@vivag.ch
SUMMARY:PETANQUE
DESCRIPTION:
URL:https://vivag.ch/calendrier/petanque-260/
LOCATION:Perroy\, Chemin des Rivières\, Perroy\, 1166\, Suisse
END:VEVENT
BEGIN:VEVENT
DTSTART;TZID=Europe/Zurich:20260216T180000
DTEND;TZID=Europe/Zurich:20260216T193000
DTSTAMP:20260422T080702
CREATED:20260104T192758Z
LAST-MODIFIED:20260104T192758Z
UID:33902-1771264800-1771270200@vivag.ch
SUMMARY:Tai-Chi
DESCRIPTION:
URL:https://vivag.ch/calendrier/tai-chi-97/
LOCATION:17 rue de la Combe
END:VEVENT
BEGIN:VEVENT
DTSTART;TZID=Europe/Zurich:20260217T093000
DTEND;TZID=Europe/Zurich:20260217T110000
DTSTAMP:20260422T080702
CREATED:20260104T195652Z
LAST-MODIFIED:20260104T195652Z
UID:33945-1771320600-1771326000@vivag.ch
SUMMARY:allemand
DESCRIPTION:
URL:https://vivag.ch/calendrier/allemand-64/
LOCATION:17 rue de la Combe
END:VEVENT
BEGIN:VEVENT
DTSTART;TZID=Europe/Zurich:20260217T150000
DTEND;TZID=Europe/Zurich:20260217T170000
DTSTAMP:20260422T080702
CREATED:20251230T111344Z
LAST-MODIFIED:20251230T111344Z
UID:33706-1771340400-1771347600@vivag.ch
SUMMARY:CINE-VIVAG
DESCRIPTION:
URL:https://vivag.ch/calendrier/cine-vivag-23/
LOCATION:Local Vivag\, Chemin de Montoly 3\, Gland\, 1196\, Suisse
ORGANIZER;CN="Jean-Luc Nicolet":MAILTO:cinevivag.gland@gmail.com
END:VEVENT
BEGIN:VEVENT
DTSTART;TZID=Europe/Zurich:20260218T093000
DTEND;TZID=Europe/Zurich:20260218T113000
DTSTAMP:20260422T080702
CREATED:20251227T132011Z
LAST-MODIFIED:20251227T132011Z
UID:33628-1771407000-1771414200@vivag.ch
SUMMARY:ACCUEIL
DESCRIPTION:
URL:https://vivag.ch/calendrier/accueil-127/
LOCATION:Local Vivag\, Chemin de Montoly 3\, Gland\, 1196\, Suisse
ATTACH;FMTTYPE=image/jpeg:https://vivag.ch/wp-content/uploads/2025/12/Accueil-photo-calendrier.jpeg
END:VEVENT
BEGIN:VEVENT
DTSTART;TZID=Europe/Zurich:20260218T120000
DTEND;TZID=Europe/Zurich:20260218T140000
DTSTAMP:20260422T080702
CREATED:20260104T130101Z
LAST-MODIFIED:20260104T130101Z
UID:33838-1771416000-1771423200@vivag.ch
SUMMARY:TABLE D'HÔTES
DESCRIPTION:
URL:https://vivag.ch/calendrier/table-dhotes-26/
LOCATION:Aux Trésors des Iles\, Rue de Malagny 8\, Gland\, 1196\, Suisse
ATTACH;FMTTYPE=image/jpeg:https://vivag.ch/wp-content/uploads/2023/08/2088a0a5-56ff-4a0a-adb0-e8d58e9d93b9.jpg
END:VEVENT
BEGIN:VEVENT
DTSTART;TZID=Europe/Zurich:20260218T140000
DTEND;TZID=Europe/Zurich:20260218T180000
DTSTAMP:20260422T080702
CREATED:20251220T075016Z
LAST-MODIFIED:20251220T075016Z
UID:33516-1771423200-1771437600@vivag.ch
SUMMARY:PETANQUE
DESCRIPTION:
URL:https://vivag.ch/calendrier/petanque-257/
LOCATION:Perroy\, Chemin des Rivières\, Perroy\, 1166\, Suisse
END:VEVENT
BEGIN:VEVENT
DTSTART;TZID=Europe/Zurich:20260219T140000
DTEND;TZID=Europe/Zurich:20260219T160000
DTSTAMP:20260422T080702
CREATED:20251231T075816Z
LAST-MODIFIED:20251231T075816Z
UID:33772-1771509600-1771516800@vivag.ch
SUMMARY:Anglais
DESCRIPTION:
URL:https://vivag.ch/calendrier/anglais-31/
LOCATION:Complexe de Montoly\, Ch. de Montoly 3\, Gland\, 1196\, Suisse
END:VEVENT
BEGIN:VEVENT
DTSTART;TZID=Europe/Zurich:20260220T140000
DTEND;TZID=Europe/Zurich:20260220T163000
DTSTAMP:20260422T080702
CREATED:20240103T174210Z
LAST-MODIFIED:20251226T170735Z
UID:30910-1771596000-1771605000@vivag.ch
SUMMARY:ECHECS
DESCRIPTION:Tous les vendredis après-midi au local Vivag du complexe de Montoly. \n« pour apprendre en s’amusant » \nPour tous renseignements\, merci de contacter Michel De Bondt au 079 822 89 20 ou par messagerie à l’adresse : micheldebondt48@gmail.com
URL:https://vivag.ch/calendrier/echecs-13/
LOCATION:Local Vivag\, Chemin de Montoly 3\, Gland\, 1196\, Suisse
ORGANIZER;CN="Michel Debondt":MAILTO:micheldebondt@gmail.com
END:VEVENT
BEGIN:VEVENT
DTSTART;TZID=Europe/Zurich:20260220T140000
DTEND;TZID=Europe/Zurich:20260220T180000
DTSTAMP:20260422T080702
CREATED:20251220T075427Z
LAST-MODIFIED:20251220T075427Z
UID:33524-1771596000-1771610400@vivag.ch
SUMMARY:PETANQUE
DESCRIPTION:
URL:https://vivag.ch/calendrier/petanque-261/
LOCATION:Perroy\, Chemin des Rivières\, Perroy\, 1166\, Suisse
END:VEVENT
END:VCALENDAR