BEGIN:VCALENDAR
VERSION:2.0
PRODID:-//VIVAG - ECPv6.15.20//NONSGML v1.0//EN
CALSCALE:GREGORIAN
METHOD:PUBLISH
X-ORIGINAL-URL:https://vivag.ch
X-WR-CALDESC:Évènements pour VIVAG
REFRESH-INTERVAL;VALUE=DURATION:PT1H
X-Robots-Tag:noindex
X-PUBLISHED-TTL:PT1H
BEGIN:VTIMEZONE
TZID:Europe/Zurich
BEGIN:DAYLIGHT
TZOFFSETFROM:+0100
TZOFFSETTO:+0200
TZNAME:CEST
DTSTART:20240331T010000
END:DAYLIGHT
BEGIN:STANDARD
TZOFFSETFROM:+0200
TZOFFSETTO:+0100
TZNAME:CET
DTSTART:20241027T010000
END:STANDARD
BEGIN:DAYLIGHT
TZOFFSETFROM:+0100
TZOFFSETTO:+0200
TZNAME:CEST
DTSTART:20250330T010000
END:DAYLIGHT
BEGIN:STANDARD
TZOFFSETFROM:+0200
TZOFFSETTO:+0100
TZNAME:CET
DTSTART:20251026T010000
END:STANDARD
BEGIN:DAYLIGHT
TZOFFSETFROM:+0100
TZOFFSETTO:+0200
TZNAME:CEST
DTSTART:20260329T010000
END:DAYLIGHT
BEGIN:STANDARD
TZOFFSETFROM:+0200
TZOFFSETTO:+0100
TZNAME:CET
DTSTART:20261025T010000
END:STANDARD
END:VTIMEZONE
BEGIN:VEVENT
DTSTART;TZID=Europe/Zurich:20251107T140000
DTEND;TZID=Europe/Zurich:20251107T163000
DTSTAMP:20260420T160934
CREATED:20230809T162029Z
LAST-MODIFIED:20250722T090554Z
UID:29902-1762524000-1762533000@vivag.ch
SUMMARY:ECHECS
DESCRIPTION:Tous les vendredis après-midi au local Vivag du complexe de Montoly. \n« pour apprendre en s’amusant » \nPour tous renseignements\, merci de contacter Michel De Bondt au 079 822 89 20 ou par messagerie à l’adresse : micheldebondt48@gmail.com
URL:https://vivag.ch/calendrier/echecs-2/
LOCATION:Complexe de Montoly\, Ch. de Montoly 3\, Gland\, 1196\, Suisse
ATTACH;FMTTYPE=image/jpeg:https://vivag.ch/wp-content/uploads/2023/03/IMG_1901.jpg
ORGANIZER;CN="Michel Debondt":MAILTO:micheldebondt@gmail.com
END:VEVENT
END:VCALENDAR