BEGIN:VCALENDAR
VERSION:2.0
PRODID:-//VIVAG - ECPv6.15.20//NONSGML v1.0//EN
CALSCALE:GREGORIAN
METHOD:PUBLISH
X-ORIGINAL-URL:https://vivag.ch
X-WR-CALDESC:Évènements pour VIVAG
REFRESH-INTERVAL;VALUE=DURATION:PT1H
X-Robots-Tag:noindex
X-PUBLISHED-TTL:PT1H
BEGIN:VTIMEZONE
TZID:Europe/Zurich
BEGIN:DAYLIGHT
TZOFFSETFROM:+0100
TZOFFSETTO:+0200
TZNAME:CEST
DTSTART:20250330T010000
END:DAYLIGHT
BEGIN:STANDARD
TZOFFSETFROM:+0200
TZOFFSETTO:+0100
TZNAME:CET
DTSTART:20251026T010000
END:STANDARD
BEGIN:DAYLIGHT
TZOFFSETFROM:+0100
TZOFFSETTO:+0200
TZNAME:CEST
DTSTART:20260329T010000
END:DAYLIGHT
BEGIN:STANDARD
TZOFFSETFROM:+0200
TZOFFSETTO:+0100
TZNAME:CET
DTSTART:20261025T010000
END:STANDARD
BEGIN:DAYLIGHT
TZOFFSETFROM:+0100
TZOFFSETTO:+0200
TZNAME:CEST
DTSTART:20270328T010000
END:DAYLIGHT
BEGIN:STANDARD
TZOFFSETFROM:+0200
TZOFFSETTO:+0100
TZNAME:CET
DTSTART:20271031T010000
END:STANDARD
END:VTIMEZONE
BEGIN:VEVENT
DTSTART;TZID=Europe/Zurich:20260429T093000
DTEND;TZID=Europe/Zurich:20260429T113000
DTSTAMP:20260423T111352
CREATED:20251227T132926Z
LAST-MODIFIED:20251227T132926Z
UID:33648-1777455000-1777462200@vivag.ch
SUMMARY:ACCUEIL
DESCRIPTION:
URL:https://vivag.ch/calendrier/accueil-137/
LOCATION:Local Vivag\, Chemin de Montoly 3\, Gland\, 1196\, Suisse
ATTACH;FMTTYPE=image/jpeg:https://vivag.ch/wp-content/uploads/2025/12/Accueil-photo-calendrier.jpeg
END:VEVENT
BEGIN:VEVENT
DTSTART;TZID=Europe/Zurich:20260506T093000
DTEND;TZID=Europe/Zurich:20260506T113000
DTSTAMP:20260423T111352
CREATED:20251227T133050Z
LAST-MODIFIED:20251227T133050Z
UID:33650-1778059800-1778067000@vivag.ch
SUMMARY:ACCUEIL
DESCRIPTION:
URL:https://vivag.ch/calendrier/accueil-138/
LOCATION:Local Vivag\, Chemin de Montoly 3\, Gland\, 1196\, Suisse
ATTACH;FMTTYPE=image/jpeg:https://vivag.ch/wp-content/uploads/2025/12/Accueil-photo-calendrier.jpeg
END:VEVENT
BEGIN:VEVENT
DTSTART;TZID=Europe/Zurich:20260513T093000
DTEND;TZID=Europe/Zurich:20260513T113000
DTSTAMP:20260423T111352
CREATED:20251227T133146Z
LAST-MODIFIED:20251227T133146Z
UID:33652-1778664600-1778671800@vivag.ch
SUMMARY:ACCUEIL
DESCRIPTION:
URL:https://vivag.ch/calendrier/accueil-139/
LOCATION:Local Vivag\, Chemin de Montoly 3\, Gland\, 1196\, Suisse
ATTACH;FMTTYPE=image/jpeg:https://vivag.ch/wp-content/uploads/2025/12/Accueil-photo-calendrier.jpeg
END:VEVENT
BEGIN:VEVENT
DTSTART;TZID=Europe/Zurich:20260520T093000
DTEND;TZID=Europe/Zurich:20260520T113000
DTSTAMP:20260423T111352
CREATED:20251227T133258Z
LAST-MODIFIED:20251227T133258Z
UID:33654-1779269400-1779276600@vivag.ch
SUMMARY:ACCUEIL
DESCRIPTION:
URL:https://vivag.ch/calendrier/accueil-140/
LOCATION:Local Vivag\, Chemin de Montoly 3\, Gland\, 1196\, Suisse
ATTACH;FMTTYPE=image/jpeg:https://vivag.ch/wp-content/uploads/2025/12/Accueil-photo-calendrier.jpeg
END:VEVENT
BEGIN:VEVENT
DTSTART;TZID=Europe/Zurich:20260527T093000
DTEND;TZID=Europe/Zurich:20260527T113000
DTSTAMP:20260423T111352
CREATED:20251227T133403Z
LAST-MODIFIED:20251227T133403Z
UID:33656-1779874200-1779881400@vivag.ch
SUMMARY:ACCUEIL
DESCRIPTION:
URL:https://vivag.ch/calendrier/accueil-141/
LOCATION:Local Vivag\, Chemin de Montoly 3\, Gland\, 1196\, Suisse
ATTACH;FMTTYPE=image/jpeg:https://vivag.ch/wp-content/uploads/2025/12/Accueil-photo-calendrier.jpeg
END:VEVENT
BEGIN:VEVENT
DTSTART;TZID=Europe/Zurich:20260603T093000
DTEND;TZID=Europe/Zurich:20260603T113000
DTSTAMP:20260423T111352
CREATED:20251227T133518Z
LAST-MODIFIED:20251227T133518Z
UID:33658-1780479000-1780486200@vivag.ch
SUMMARY:ACCUEIL
DESCRIPTION:
URL:https://vivag.ch/calendrier/accueil-142/
LOCATION:Local Vivag\, Chemin de Montoly 3\, Gland\, 1196\, Suisse
ATTACH;FMTTYPE=image/jpeg:https://vivag.ch/wp-content/uploads/2025/12/Accueil-photo-calendrier.jpeg
END:VEVENT
BEGIN:VEVENT
DTSTART;TZID=Europe/Zurich:20260610T093000
DTEND;TZID=Europe/Zurich:20260610T113000
DTSTAMP:20260423T111352
CREATED:20251227T133616Z
LAST-MODIFIED:20251227T133616Z
UID:33660-1781083800-1781091000@vivag.ch
SUMMARY:ACCUEIL
DESCRIPTION:
URL:https://vivag.ch/calendrier/accueil-143/
LOCATION:Local Vivag\, Chemin de Montoly 3\, Gland\, 1196\, Suisse
ATTACH;FMTTYPE=image/jpeg:https://vivag.ch/wp-content/uploads/2025/12/Accueil-photo-calendrier.jpeg
END:VEVENT
BEGIN:VEVENT
DTSTART;TZID=Europe/Zurich:20260617T093000
DTEND;TZID=Europe/Zurich:20260617T113000
DTSTAMP:20260423T111352
CREATED:20251227T133745Z
LAST-MODIFIED:20251227T133745Z
UID:33662-1781688600-1781695800@vivag.ch
SUMMARY:ACCUEIL
DESCRIPTION:
URL:https://vivag.ch/calendrier/accueil-144/
LOCATION:Local Vivag\, Chemin de Montoly 3\, Gland\, 1196\, Suisse
ATTACH;FMTTYPE=image/jpeg:https://vivag.ch/wp-content/uploads/2025/12/Accueil-photo-calendrier.jpeg
END:VEVENT
BEGIN:VEVENT
DTSTART;TZID=Europe/Zurich:20260624T093000
DTEND;TZID=Europe/Zurich:20260624T113000
DTSTAMP:20260423T111352
CREATED:20251227T133912Z
LAST-MODIFIED:20251227T133912Z
UID:33664-1782293400-1782300600@vivag.ch
SUMMARY:ACCUEIL
DESCRIPTION:
URL:https://vivag.ch/calendrier/accueil-145/
LOCATION:Local Vivag\, Chemin de Montoly 3\, Gland\, 1196\, Suisse
ATTACH;FMTTYPE=image/jpeg:https://vivag.ch/wp-content/uploads/2025/12/Accueil-photo-calendrier.jpeg
END:VEVENT
END:VCALENDAR