BEGIN:VCALENDAR
VERSION:2.0
PRODID:-//VIVAG - ECPv6.15.20//NONSGML v1.0//EN
CALSCALE:GREGORIAN
METHOD:PUBLISH
X-ORIGINAL-URL:https://vivag.ch
X-WR-CALDESC:Évènements pour VIVAG
REFRESH-INTERVAL;VALUE=DURATION:PT1H
X-Robots-Tag:noindex
X-PUBLISHED-TTL:PT1H
BEGIN:VTIMEZONE
TZID:Europe/Zurich
BEGIN:DAYLIGHT
TZOFFSETFROM:+0100
TZOFFSETTO:+0200
TZNAME:CEST
DTSTART:20250330T010000
END:DAYLIGHT
BEGIN:STANDARD
TZOFFSETFROM:+0200
TZOFFSETTO:+0100
TZNAME:CET
DTSTART:20251026T010000
END:STANDARD
BEGIN:DAYLIGHT
TZOFFSETFROM:+0100
TZOFFSETTO:+0200
TZNAME:CEST
DTSTART:20260329T010000
END:DAYLIGHT
BEGIN:STANDARD
TZOFFSETFROM:+0200
TZOFFSETTO:+0100
TZNAME:CET
DTSTART:20261025T010000
END:STANDARD
BEGIN:DAYLIGHT
TZOFFSETFROM:+0100
TZOFFSETTO:+0200
TZNAME:CEST
DTSTART:20270328T010000
END:DAYLIGHT
BEGIN:STANDARD
TZOFFSETFROM:+0200
TZOFFSETTO:+0100
TZNAME:CET
DTSTART:20271031T010000
END:STANDARD
END:VTIMEZONE
BEGIN:VEVENT
DTSTART;TZID=Europe/Zurich:20260518T000000
DTEND;TZID=Europe/Zurich:20260518T170000
DTSTAMP:20260425T163835
CREATED:20240716T070452Z
LAST-MODIFIED:20260421T163816Z
UID:31426-1779062400-1779123600@vivag.ch
SUMMARY:Marche
DESCRIPTION:LU 18 mai\,  Georges\, Rosine. RDV 9h30\, En Bord. Prendre son pique-nique \nDestination                        Mollendruz- Dent de Vaulion \nDurées – Dénivelé +/-      GM : Mollendruz) Pétraz-Félix – Dent de Vaulion \, 8 km  + / – 400 m \nPM :  Mollendruz en direction de Châtel\,  6\,5 km \, + / – 230 m; puis l’après-midi\, déplacement en voiture au Chalet de la Dent de Vaulion \nPrix de la course               Chauffeurs : GM Frs 12.- .  Parking GM au Col de Pétraz-Felix\, \nChauffeurs : PM  Frs 14.-    Parking PM au col du Mollendruz\, puis Buvette Dent de Vaulion. \n 
URL:https://vivag.ch/calendrier/marche-29/
LOCATION:Centre sportif En Bord\, Centre sportif En Bord\, Gland\, 1196\, Suisse
ORGANIZER;CN="Georges Grandjean":MAILTO:georges@grandjean.ch
END:VEVENT
BEGIN:VEVENT
DTSTART;TZID=Europe/Zurich:20260518T140000
DTEND;TZID=Europe/Zurich:20260518T160000
DTSTAMP:20260425T163835
CREATED:20260128T095608Z
LAST-MODIFIED:20260128T095608Z
UID:34001-1779112800-1779120000@vivag.ch
SUMMARY:ITALIEN
DESCRIPTION:
URL:https://vivag.ch/calendrier/italien-8/
LOCATION:Complexe de Montoly\, Ch. de Montoly 3\, Gland\, 1196\, Suisse
END:VEVENT
BEGIN:VEVENT
DTSTART;TZID=Europe/Zurich:20260518T180000
DTEND;TZID=Europe/Zurich:20260518T193000
DTSTAMP:20260425T163835
CREATED:20260104T194111Z
LAST-MODIFIED:20260104T194111Z
UID:33927-1779127200-1779132600@vivag.ch
SUMMARY:Tai-Chi
DESCRIPTION:
URL:https://vivag.ch/calendrier/tai-chi-109/
LOCATION:17 rue de la Combe
END:VEVENT
END:VCALENDAR