BEGIN:VCALENDAR
VERSION:2.0
PRODID:-//VIVAG - ECPv6.15.20//NONSGML v1.0//EN
CALSCALE:GREGORIAN
METHOD:PUBLISH
X-ORIGINAL-URL:https://vivag.ch
X-WR-CALDESC:Évènements pour VIVAG
REFRESH-INTERVAL;VALUE=DURATION:PT1H
X-Robots-Tag:noindex
X-PUBLISHED-TTL:PT1H
BEGIN:VTIMEZONE
TZID:Europe/Zurich
BEGIN:DAYLIGHT
TZOFFSETFROM:+0100
TZOFFSETTO:+0200
TZNAME:CEST
DTSTART:20250330T010000
END:DAYLIGHT
BEGIN:STANDARD
TZOFFSETFROM:+0200
TZOFFSETTO:+0100
TZNAME:CET
DTSTART:20251026T010000
END:STANDARD
BEGIN:DAYLIGHT
TZOFFSETFROM:+0100
TZOFFSETTO:+0200
TZNAME:CEST
DTSTART:20260329T010000
END:DAYLIGHT
BEGIN:STANDARD
TZOFFSETFROM:+0200
TZOFFSETTO:+0100
TZNAME:CET
DTSTART:20261025T010000
END:STANDARD
BEGIN:DAYLIGHT
TZOFFSETFROM:+0100
TZOFFSETTO:+0200
TZNAME:CEST
DTSTART:20270328T010000
END:DAYLIGHT
BEGIN:STANDARD
TZOFFSETFROM:+0200
TZOFFSETTO:+0100
TZNAME:CET
DTSTART:20271031T010000
END:STANDARD
END:VTIMEZONE
BEGIN:VEVENT
DTSTART;TZID=Europe/Zurich:20260504T100000
DTEND;TZID=Europe/Zurich:20260504T170000
DTSTAMP:20260424T141512
CREATED:20251128T122931Z
LAST-MODIFIED:20260421T163431Z
UID:29854-1777888800-1777914000@vivag.ch
SUMMARY:Marche
DESCRIPTION:Lundi  4 mai 2026  conduite par Georges pour la GM et Rosine pour la PM\, \n RDV 09h50 Gare de Gland\, voie 3\, départ train 10h00 \nLe sentier du Rhône\, sa réserve naturelle\, du Lignon à Aire – Satigny \nprévoir le pic-nic\, retour 17h00 environ \nDurée – Dénivelé             GM : Le Lignon – Aire – Satigny \, 11 km \, très peu de dénivelé           PM : Le Lignon – Aire et bus Satigny \, 8 km \, très peu de dénivelé \nBons sentiers et chemins forestiers \nPrix du billet collectif : Abt 1/2 tarif : 11\,50  frs Entier : 23.- frs \nInscriptions :                      chez Georges jusqu’au jeudi 30 avril\, 13h00\, 079 736 38 03\, georges@grandjean.ch
URL:https://vivag.ch/calendrier/marche-26/
LOCATION:Gare de Gland
ORGANIZER;CN="Georges Grandjean":MAILTO:georges@grandjean.ch
END:VEVENT
BEGIN:VEVENT
DTSTART;TZID=Europe/Zurich:20260504T140000
DTEND;TZID=Europe/Zurich:20260504T160000
DTSTAMP:20260424T141512
CREATED:20260128T095516Z
LAST-MODIFIED:20260128T095516Z
UID:33999-1777903200-1777910400@vivag.ch
SUMMARY:ITALIEN
DESCRIPTION:
URL:https://vivag.ch/calendrier/italien-7/
LOCATION:Complexe de Montoly\, Ch. de Montoly 3\, Gland\, 1196\, Suisse
END:VEVENT
BEGIN:VEVENT
DTSTART;TZID=Europe/Zurich:20260504T180000
DTEND;TZID=Europe/Zurich:20260504T193000
DTSTAMP:20260424T141512
CREATED:20260104T193926Z
LAST-MODIFIED:20260104T193926Z
UID:33922-1777917600-1777923000@vivag.ch
SUMMARY:Tai-Chi
DESCRIPTION:
URL:https://vivag.ch/calendrier/tai-chi-107/
LOCATION:17 rue de la Combe
END:VEVENT
END:VCALENDAR