BEGIN:VCALENDAR
VERSION:2.0
PRODID:-//VIVAG - ECPv6.15.20//NONSGML v1.0//EN
CALSCALE:GREGORIAN
METHOD:PUBLISH
X-WR-CALNAME:VIVAG
X-ORIGINAL-URL:https://vivag.ch
X-WR-CALDESC:Évènements pour VIVAG
REFRESH-INTERVAL;VALUE=DURATION:PT1H
X-Robots-Tag:noindex
X-PUBLISHED-TTL:PT1H
BEGIN:VTIMEZONE
TZID:Europe/Zurich
BEGIN:DAYLIGHT
TZOFFSETFROM:+0100
TZOFFSETTO:+0200
TZNAME:CEST
DTSTART:20250330T010000
END:DAYLIGHT
BEGIN:STANDARD
TZOFFSETFROM:+0200
TZOFFSETTO:+0100
TZNAME:CET
DTSTART:20251026T010000
END:STANDARD
BEGIN:DAYLIGHT
TZOFFSETFROM:+0100
TZOFFSETTO:+0200
TZNAME:CEST
DTSTART:20260329T010000
END:DAYLIGHT
BEGIN:STANDARD
TZOFFSETFROM:+0200
TZOFFSETTO:+0100
TZNAME:CET
DTSTART:20261025T010000
END:STANDARD
BEGIN:DAYLIGHT
TZOFFSETFROM:+0100
TZOFFSETTO:+0200
TZNAME:CEST
DTSTART:20270328T010000
END:DAYLIGHT
BEGIN:STANDARD
TZOFFSETFROM:+0200
TZOFFSETTO:+0100
TZNAME:CET
DTSTART:20271031T010000
END:STANDARD
END:VTIMEZONE
BEGIN:VEVENT
DTSTART;TZID=Europe/Zurich:20260422T093000
DTEND;TZID=Europe/Zurich:20260422T113000
DTSTAMP:20260422T021837
CREATED:20251227T132832Z
LAST-MODIFIED:20251227T132832Z
UID:33646-1776850200-1776857400@vivag.ch
SUMMARY:ACCUEIL
DESCRIPTION:
URL:https://vivag.ch/calendrier/accueil-136/
LOCATION:Local Vivag\, Chemin de Montoly 3\, Gland\, 1196\, Suisse
ATTACH;FMTTYPE=image/jpeg:https://vivag.ch/wp-content/uploads/2025/12/Accueil-photo-calendrier.jpeg
END:VEVENT
BEGIN:VEVENT
DTSTART;TZID=Europe/Zurich:20260422T120000
DTEND;TZID=Europe/Zurich:20260422T140000
DTSTAMP:20260422T021837
CREATED:20260104T130909Z
LAST-MODIFIED:20260104T132354Z
UID:33850-1776859200-1776866400@vivag.ch
SUMMARY:TABLE D'HÔTES
DESCRIPTION:
URL:https://vivag.ch/calendrier/table-dhotes-32/
LOCATION:Aux Trésors des Iles\, Rue de Malagny 8\, Gland\, 1196\, Suisse
ATTACH;FMTTYPE=image/jpeg:https://vivag.ch/wp-content/uploads/2023/08/2088a0a5-56ff-4a0a-adb0-e8d58e9d93b9.jpg
END:VEVENT
BEGIN:VEVENT
DTSTART;TZID=Europe/Zurich:20260422T140000
DTEND;TZID=Europe/Zurich:20260422T180000
DTSTAMP:20260422T021837
CREATED:20251220T082817Z
LAST-MODIFIED:20251220T082817Z
UID:33553-1776866400-1776880800@vivag.ch
SUMMARY:PETANQUE
DESCRIPTION:
URL:https://vivag.ch/calendrier/petanque-275/
LOCATION:Centre sportif En Bord\, Centre sportif En Bord\, Gland\, 1196\, Suisse
END:VEVENT
END:VCALENDAR