BEGIN:VCALENDAR
VERSION:2.0
PRODID:-//VIVAG - ECPv6.15.20//NONSGML v1.0//EN
CALSCALE:GREGORIAN
METHOD:PUBLISH
X-ORIGINAL-URL:https://vivag.ch
X-WR-CALDESC:Évènements pour VIVAG
REFRESH-INTERVAL;VALUE=DURATION:PT1H
X-Robots-Tag:noindex
X-PUBLISHED-TTL:PT1H
BEGIN:VTIMEZONE
TZID:Europe/Zurich
BEGIN:DAYLIGHT
TZOFFSETFROM:+0100
TZOFFSETTO:+0200
TZNAME:CEST
DTSTART:20250330T010000
END:DAYLIGHT
BEGIN:STANDARD
TZOFFSETFROM:+0200
TZOFFSETTO:+0100
TZNAME:CET
DTSTART:20251026T010000
END:STANDARD
BEGIN:DAYLIGHT
TZOFFSETFROM:+0100
TZOFFSETTO:+0200
TZNAME:CEST
DTSTART:20260329T010000
END:DAYLIGHT
BEGIN:STANDARD
TZOFFSETFROM:+0200
TZOFFSETTO:+0100
TZNAME:CET
DTSTART:20261025T010000
END:STANDARD
BEGIN:DAYLIGHT
TZOFFSETFROM:+0100
TZOFFSETTO:+0200
TZNAME:CEST
DTSTART:20270328T010000
END:DAYLIGHT
BEGIN:STANDARD
TZOFFSETFROM:+0200
TZOFFSETTO:+0100
TZNAME:CET
DTSTART:20271031T010000
END:STANDARD
END:VTIMEZONE
BEGIN:VEVENT
DTSTART;TZID=Europe/Zurich:20260413T133000
DTEND;TZID=Europe/Zurich:20260413T170000
DTSTAMP:20260422T023012
CREATED:20240822T192256Z
LAST-MODIFIED:20260412T064621Z
UID:31778-1776087000-1776099600@vivag.ch
SUMMARY:Marche
DESCRIPTION:En raison des conditions météorologiques la marche prévue Au Lignon – Aire – Satigny est annulée. \nEn remplacement\, nous vous donnons RDV à 13h30 au Centre sportif En Bord pour une marche dans les environs. \n 
URL:https://vivag.ch/calendrier/marche-24/
LOCATION:Centre sportif « En Bord »
ORGANIZER;CN="Georges Grandjean":MAILTO:georges@grandjean.ch
END:VEVENT
BEGIN:VEVENT
DTSTART;TZID=Europe/Zurich:20260413T140000
DTEND;TZID=Europe/Zurich:20260413T160000
DTSTAMP:20260422T023012
CREATED:20260128T095326Z
LAST-MODIFIED:20260128T095326Z
UID:33995-1776088800-1776096000@vivag.ch
SUMMARY:ITALIEN
DESCRIPTION:
URL:https://vivag.ch/calendrier/italien-5/
LOCATION:Complexe de Montoly\, Ch. de Montoly 3\, Gland\, 1196\, Suisse
END:VEVENT
BEGIN:VEVENT
DTSTART;TZID=Europe/Zurich:20260413T180000
DTEND;TZID=Europe/Zurich:20260413T193000
DTSTAMP:20260422T023013
CREATED:20260104T193616Z
LAST-MODIFIED:20260104T193616Z
UID:33916-1776103200-1776108600@vivag.ch
SUMMARY:Tai-Chi
DESCRIPTION:
URL:https://vivag.ch/calendrier/tai-chi-104/
LOCATION:17 rue de la Combe
END:VEVENT
END:VCALENDAR