BEGIN:VCALENDAR
VERSION:2.0
PRODID:-//VIVAG - ECPv6.15.20//NONSGML v1.0//EN
CALSCALE:GREGORIAN
METHOD:PUBLISH
X-WR-CALNAME:VIVAG
X-ORIGINAL-URL:https://vivag.ch
X-WR-CALDESC:Évènements pour VIVAG
REFRESH-INTERVAL;VALUE=DURATION:PT1H
X-Robots-Tag:noindex
X-PUBLISHED-TTL:PT1H
BEGIN:VTIMEZONE
TZID:Europe/Zurich
BEGIN:DAYLIGHT
TZOFFSETFROM:+0100
TZOFFSETTO:+0200
TZNAME:CEST
DTSTART:20250330T010000
END:DAYLIGHT
BEGIN:STANDARD
TZOFFSETFROM:+0200
TZOFFSETTO:+0100
TZNAME:CET
DTSTART:20251026T010000
END:STANDARD
BEGIN:DAYLIGHT
TZOFFSETFROM:+0100
TZOFFSETTO:+0200
TZNAME:CEST
DTSTART:20260329T010000
END:DAYLIGHT
BEGIN:STANDARD
TZOFFSETFROM:+0200
TZOFFSETTO:+0100
TZNAME:CET
DTSTART:20261025T010000
END:STANDARD
BEGIN:DAYLIGHT
TZOFFSETFROM:+0100
TZOFFSETTO:+0200
TZNAME:CEST
DTSTART:20270328T010000
END:DAYLIGHT
BEGIN:STANDARD
TZOFFSETFROM:+0200
TZOFFSETTO:+0100
TZNAME:CET
DTSTART:20271031T010000
END:STANDARD
END:VTIMEZONE
BEGIN:VEVENT
DTSTART;TZID=Europe/Zurich:20260401T091500
DTEND;TZID=Europe/Zurich:20260401T100000
DTSTAMP:20260422T042313
CREATED:20240903T174424Z
LAST-MODIFIED:20260224T193909Z
UID:31821-1775034900-1775037600@vivag.ch
SUMMARY:Marche Vas'Y mollo
DESCRIPTION:Petite marche de 45 à 50 minutes à Gland ou dans ses environs au départ du parking de Montoly. \nMarche ouverte à tous les membres Vivag pouvant marcher sans assistance particulière \n  \n  \nPour toutes questions vous pouvez contacter Laurent Sumi au 077 269 10 38
URL:https://vivag.ch/calendrier/marche-vasy-mollo-12/
LOCATION:Complexe de Montoly\, Ch. de Montoly 3\, Gland\, 1196\, Suisse
ORGANIZER;CN="Laurent Sumi":MAILTO:laurentsumi@bluewin.ch
END:VEVENT
BEGIN:VEVENT
DTSTART;TZID=Europe/Zurich:20260401T093000
DTEND;TZID=Europe/Zurich:20260401T113000
DTSTAMP:20260422T042313
CREATED:20251227T132533Z
LAST-MODIFIED:20251227T132533Z
UID:33640-1775035800-1775043000@vivag.ch
SUMMARY:ACCUEIL
DESCRIPTION:
URL:https://vivag.ch/calendrier/accueil-133/
LOCATION:Local Vivag\, Chemin de Montoly 3\, Gland\, 1196\, Suisse
ATTACH;FMTTYPE=image/jpeg:https://vivag.ch/wp-content/uploads/2025/12/Accueil-photo-calendrier.jpeg
END:VEVENT
BEGIN:VEVENT
DTSTART;TZID=Europe/Zurich:20260401T140000
DTEND;TZID=Europe/Zurich:20260401T180000
DTSTAMP:20260422T042313
CREATED:20251220T082521Z
LAST-MODIFIED:20251220T082521Z
UID:33547-1775052000-1775066400@vivag.ch
SUMMARY:PETANQUE
DESCRIPTION:
URL:https://vivag.ch/calendrier/petanque-272/
LOCATION:Centre sportif En Bord\, Centre sportif En Bord\, Gland\, 1196\, Suisse
END:VEVENT
END:VCALENDAR