BEGIN:VCALENDAR
VERSION:2.0
PRODID:-//VIVAG - ECPv6.15.20//NONSGML v1.0//EN
CALSCALE:GREGORIAN
METHOD:PUBLISH
X-WR-CALNAME:VIVAG
X-ORIGINAL-URL:https://vivag.ch
X-WR-CALDESC:Évènements pour VIVAG
REFRESH-INTERVAL;VALUE=DURATION:PT1H
X-Robots-Tag:noindex
X-PUBLISHED-TTL:PT1H
BEGIN:VTIMEZONE
TZID:Europe/Zurich
BEGIN:DAYLIGHT
TZOFFSETFROM:+0100
TZOFFSETTO:+0200
TZNAME:CEST
DTSTART:20250330T010000
END:DAYLIGHT
BEGIN:STANDARD
TZOFFSETFROM:+0200
TZOFFSETTO:+0100
TZNAME:CET
DTSTART:20251026T010000
END:STANDARD
BEGIN:DAYLIGHT
TZOFFSETFROM:+0100
TZOFFSETTO:+0200
TZNAME:CEST
DTSTART:20260329T010000
END:DAYLIGHT
BEGIN:STANDARD
TZOFFSETFROM:+0200
TZOFFSETTO:+0100
TZNAME:CET
DTSTART:20261025T010000
END:STANDARD
BEGIN:DAYLIGHT
TZOFFSETFROM:+0100
TZOFFSETTO:+0200
TZNAME:CEST
DTSTART:20270328T010000
END:DAYLIGHT
BEGIN:STANDARD
TZOFFSETFROM:+0200
TZOFFSETTO:+0100
TZNAME:CET
DTSTART:20271031T010000
END:STANDARD
END:VTIMEZONE
BEGIN:VEVENT
DTSTART;TZID=Europe/Zurich:20260330T133000
DTEND;TZID=Europe/Zurich:20260330T170000
DTSTAMP:20260423T125334
CREATED:20240716T070037Z
LAST-MODIFIED:20260329T141201Z
UID:31420-1774877400-1774890000@vivag.ch
SUMMARY:Marche
DESCRIPTION:CHANGEMENT de destination\, mais toujours RDV 13h30 En Bord\, pour du covoiturage. \nComme vous l’aurez remarqué\, nous avons eu un épisode de froid et un retour de la neige. Aussi\, lors d’un dernier contrôle du parcours ce matin nous avons conclu que nous devions renoncer à aller marcher sur les hauts de Bassins\, comme initialement prévu.   Donc la marche « Sentier des 3 villages » au départ de Bassins est annulée. \nEn lieu et place\, nous vous proposons une marche dans le Vallon de la Colline\, entre Trélex et Givrins. \nDépart de la marche en dessus de Trélex vers la piste Vita. \nIl n’y aura qu’une marche d’environ 7 km\, avec un dénivelé d’environ 170 mètres. \nPrix de la course 3 fr 50.         Stationnement au-dessus de Trélex au départ de la Piste Vita. \nMerci de votre compréhension.                 Les organisateurs Ruthie et Laurent \n 
URL:https://vivag.ch/calendrier/marche-27/
LOCATION:Centre sportif « En Bord »
END:VEVENT
BEGIN:VEVENT
DTSTART;TZID=Europe/Zurich:20260330T180000
DTEND;TZID=Europe/Zurich:20260330T193000
DTSTAMP:20260423T125334
CREATED:20260104T193516Z
LAST-MODIFIED:20260104T193516Z
UID:33914-1774893600-1774899000@vivag.ch
SUMMARY:Tai-Chi
DESCRIPTION:
URL:https://vivag.ch/calendrier/tai-chi-103/
LOCATION:17 rue de la Combe
END:VEVENT
END:VCALENDAR