BEGIN:VCALENDAR
VERSION:2.0
PRODID:-//VIVAG - ECPv6.15.20//NONSGML v1.0//EN
CALSCALE:GREGORIAN
METHOD:PUBLISH
X-ORIGINAL-URL:https://vivag.ch
X-WR-CALDESC:Évènements pour VIVAG
REFRESH-INTERVAL;VALUE=DURATION:PT1H
X-Robots-Tag:noindex
X-PUBLISHED-TTL:PT1H
BEGIN:VTIMEZONE
TZID:Europe/Zurich
BEGIN:DAYLIGHT
TZOFFSETFROM:+0100
TZOFFSETTO:+0200
TZNAME:CEST
DTSTART:20250330T010000
END:DAYLIGHT
BEGIN:STANDARD
TZOFFSETFROM:+0200
TZOFFSETTO:+0100
TZNAME:CET
DTSTART:20251026T010000
END:STANDARD
BEGIN:DAYLIGHT
TZOFFSETFROM:+0100
TZOFFSETTO:+0200
TZNAME:CEST
DTSTART:20260329T010000
END:DAYLIGHT
BEGIN:STANDARD
TZOFFSETFROM:+0200
TZOFFSETTO:+0100
TZNAME:CET
DTSTART:20261025T010000
END:STANDARD
BEGIN:DAYLIGHT
TZOFFSETFROM:+0100
TZOFFSETTO:+0200
TZNAME:CEST
DTSTART:20270328T010000
END:DAYLIGHT
BEGIN:STANDARD
TZOFFSETFROM:+0200
TZOFFSETTO:+0100
TZNAME:CET
DTSTART:20271031T010000
END:STANDARD
END:VTIMEZONE
BEGIN:VEVENT
DTSTART;TZID=Europe/Zurich:20260324T093000
DTEND;TZID=Europe/Zurich:20260324T113000
DTSTAMP:20260422T063138
CREATED:20251230T112918Z
LAST-MODIFIED:20251230T112918Z
UID:33736-1774344600-1774351800@vivag.ch
SUMMARY:GYM EQUILIBRE
DESCRIPTION:
URL:https://vivag.ch/calendrier/gym-equilibre-26/
LOCATION:Salle de judo de Montoly\, Complexe de Montoly\, Gland\, 1196\, Switzerland
END:VEVENT
BEGIN:VEVENT
DTSTART;TZID=Europe/Zurich:20260324T093000
DTEND;TZID=Europe/Zurich:20260324T113000
DTSTAMP:20260422T063138
CREATED:20251231T082434Z
LAST-MODIFIED:20251231T082434Z
UID:33800-1774344600-1774351800@vivag.ch
SUMMARY:Aquarelle
DESCRIPTION:
URL:https://vivag.ch/calendrier/aquarelle-64/
LOCATION:Complexe de Montoly\, Ch. de Montoly 3\, Gland\, 1196\, Suisse
END:VEVENT
BEGIN:VEVENT
DTSTART;TZID=Europe/Zurich:20260324T140000
DTEND;TZID=Europe/Zurich:20260324T160000
DTSTAMP:20260422T063138
CREATED:20251220T070520Z
LAST-MODIFIED:20251220T070520Z
UID:33482-1774360800-1774368000@vivag.ch
SUMMARY:SCRABBLE
DESCRIPTION:
URL:https://vivag.ch/calendrier/scrabble-15/
LOCATION:Local Vivag\, Chemin de Montoly 3\, Gland\, 1196\, Suisse
END:VEVENT
END:VCALENDAR