BEGIN:VCALENDAR
VERSION:2.0
PRODID:-//VIVAG - ECPv6.15.20//NONSGML v1.0//EN
CALSCALE:GREGORIAN
METHOD:PUBLISH
X-ORIGINAL-URL:https://vivag.ch
X-WR-CALDESC:Évènements pour VIVAG
REFRESH-INTERVAL;VALUE=DURATION:PT1H
X-Robots-Tag:noindex
X-PUBLISHED-TTL:PT1H
BEGIN:VTIMEZONE
TZID:Europe/Zurich
BEGIN:DAYLIGHT
TZOFFSETFROM:+0100
TZOFFSETTO:+0200
TZNAME:CEST
DTSTART:20250330T010000
END:DAYLIGHT
BEGIN:STANDARD
TZOFFSETFROM:+0200
TZOFFSETTO:+0100
TZNAME:CET
DTSTART:20251026T010000
END:STANDARD
BEGIN:DAYLIGHT
TZOFFSETFROM:+0100
TZOFFSETTO:+0200
TZNAME:CEST
DTSTART:20260329T010000
END:DAYLIGHT
BEGIN:STANDARD
TZOFFSETFROM:+0200
TZOFFSETTO:+0100
TZNAME:CET
DTSTART:20261025T010000
END:STANDARD
BEGIN:DAYLIGHT
TZOFFSETFROM:+0100
TZOFFSETTO:+0200
TZNAME:CEST
DTSTART:20270328T010000
END:DAYLIGHT
BEGIN:STANDARD
TZOFFSETFROM:+0200
TZOFFSETTO:+0100
TZNAME:CET
DTSTART:20271031T010000
END:STANDARD
END:VTIMEZONE
BEGIN:VEVENT
DTSTART;TZID=Europe/Zurich:20260224T093000
DTEND;TZID=Europe/Zurich:20260224T113000
DTSTAMP:20260422T062150
CREATED:20251231T082129Z
LAST-MODIFIED:20251231T082129Z
UID:33796-1771925400-1771932600@vivag.ch
SUMMARY:Aquarelle
DESCRIPTION:
URL:https://vivag.ch/calendrier/aquarelle-62/
LOCATION:Complexe de Montoly\, Ch. de Montoly 3\, Gland\, 1196\, Suisse
END:VEVENT
BEGIN:VEVENT
DTSTART;TZID=Europe/Zurich:20260224T140000
DTEND;TZID=Europe/Zurich:20260224T160000
DTSTAMP:20260422T062150
CREATED:20251220T070220Z
LAST-MODIFIED:20251220T070220Z
UID:33478-1771941600-1771948800@vivag.ch
SUMMARY:SCRABBLE
DESCRIPTION:
URL:https://vivag.ch/calendrier/scrabble-13/
LOCATION:Local Vivag\, Chemin de Montoly 3\, Gland\, 1196\, Suisse
END:VEVENT
BEGIN:VEVENT
DTSTART;TZID=Europe/Zurich:20260224T170000
DTEND;TZID=Europe/Zurich:20260224T190000
DTSTAMP:20260422T062150
CREATED:20260104T133557Z
LAST-MODIFIED:20260104T133557Z
UID:33878-1771952400-1771959600@vivag.ch
SUMMARY:LECTURE
DESCRIPTION:
URL:https://vivag.ch/calendrier/lecture-30/
LOCATION:Complexe de Montoly\, Ch. de Montoly 3\, Gland\, 1196\, Suisse
ATTACH;FMTTYPE=image/jpeg:https://vivag.ch/wp-content/uploads/2023/03/lecture-2.jpg
ORGANIZER;CN="Michel Grobois":MAILTO:michel.gosbois@icloud.com
END:VEVENT
END:VCALENDAR