BEGIN:VCALENDAR
VERSION:2.0
PRODID:-//VIVAG - ECPv6.15.20//NONSGML v1.0//EN
CALSCALE:GREGORIAN
METHOD:PUBLISH
X-WR-CALNAME:VIVAG
X-ORIGINAL-URL:https://vivag.ch
X-WR-CALDESC:Évènements pour VIVAG
REFRESH-INTERVAL;VALUE=DURATION:PT1H
X-Robots-Tag:noindex
X-PUBLISHED-TTL:PT1H
BEGIN:VTIMEZONE
TZID:Europe/Zurich
BEGIN:DAYLIGHT
TZOFFSETFROM:+0100
TZOFFSETTO:+0200
TZNAME:CEST
DTSTART:20230326T010000
END:DAYLIGHT
BEGIN:STANDARD
TZOFFSETFROM:+0200
TZOFFSETTO:+0100
TZNAME:CET
DTSTART:20231029T010000
END:STANDARD
BEGIN:DAYLIGHT
TZOFFSETFROM:+0100
TZOFFSETTO:+0200
TZNAME:CEST
DTSTART:20240331T010000
END:DAYLIGHT
BEGIN:STANDARD
TZOFFSETFROM:+0200
TZOFFSETTO:+0100
TZNAME:CET
DTSTART:20241027T010000
END:STANDARD
BEGIN:DAYLIGHT
TZOFFSETFROM:+0100
TZOFFSETTO:+0200
TZNAME:CEST
DTSTART:20250330T010000
END:DAYLIGHT
BEGIN:STANDARD
TZOFFSETFROM:+0200
TZOFFSETTO:+0100
TZNAME:CET
DTSTART:20251026T010000
END:STANDARD
END:VTIMEZONE
BEGIN:VEVENT
DTSTART;TZID=Europe/Zurich:20241120T093000
DTEND;TZID=Europe/Zurich:20241120T113000
DTSTAMP:20260424T013641
CREATED:20240723T153124Z
LAST-MODIFIED:20240726T120644Z
UID:31524-1732095000-1732102200@vivag.ch
SUMMARY:ACCUEIL
DESCRIPTION:
URL:https://vivag.ch/calendrier/accueil-71/
LOCATION:Local Vivag\, Chemin de Montoly 3\, Gland\, 1196\, Suisse
ATTACH;FMTTYPE=image/jpeg:https://vivag.ch/wp-content/uploads/2024/07/20240612_104503-scaled.jpg
END:VEVENT
BEGIN:VEVENT
DTSTART;TZID=Europe/Zurich:20241120T120000
DTEND;TZID=Europe/Zurich:20241120T140000
DTSTAMP:20260424T013641
CREATED:20240720T140709Z
LAST-MODIFIED:20240805T130004Z
UID:31476-1732104000-1732111200@vivag.ch
SUMMARY:Table hôtes Trésors
DESCRIPTION:
URL:https://vivag.ch/calendrier/table-hotes-tresors-13/
LOCATION:Aux Trésors des Iles\, Rue de Malagny 8\, Gland\, 1196\, Suisse
ATTACH;FMTTYPE=image/jpeg:https://vivag.ch/wp-content/uploads/2024/07/2088a0a5-56ff-4a0a-adb0-e8d58e9d93b9.jpg
END:VEVENT
BEGIN:VEVENT
DTSTART;TZID=Europe/Zurich:20241120T140000
DTEND;TZID=Europe/Zurich:20241120T180000
DTSTAMP:20260424T013641
CREATED:20240726T090421Z
LAST-MODIFIED:20240726T090421Z
UID:31607-1732111200-1732125600@vivag.ch
SUMMARY:PETANQUE
DESCRIPTION:
URL:https://vivag.ch/calendrier/petanque-150/
LOCATION:Perroy\, Chemin des Rivières\, Perroy\, 1166\, Suisse
ATTACH;FMTTYPE=image/jpeg:https://vivag.ch/wp-content/uploads/2024/07/Petanque-Perroy.jpg
END:VEVENT
END:VCALENDAR